BEGIN:VCALENDAR
VERSION:2.0
PRODID:-//Your Yoga Alliance - ECPv5.14.1//NONSGML v1.0//EN
CALSCALE:GREGORIAN
METHOD:PUBLISH
X-WR-CALNAME:Your Yoga Alliance
X-ORIGINAL-URL:https://yourya.org
X-WR-CALDESC:Events for Your Yoga Alliance
REFRESH-INTERVAL;VALUE=DURATION:PT1H
X-Robots-Tag:noindex
X-PUBLISHED-TTL:PT1H
BEGIN:VTIMEZONE
TZID:America/New_York
BEGIN:DAYLIGHT
TZOFFSETFROM:-0500
TZOFFSETTO:-0400
TZNAME:EDT
DTSTART:20160313T070000
END:DAYLIGHT
BEGIN:STANDARD
TZOFFSETFROM:-0400
TZOFFSETTO:-0500
TZNAME:EST
DTSTART:20161106T060000
END:STANDARD
BEGIN:DAYLIGHT
TZOFFSETFROM:-0500
TZOFFSETTO:-0400
TZNAME:EDT
DTSTART:20170312T070000
END:DAYLIGHT
BEGIN:STANDARD
TZOFFSETFROM:-0400
TZOFFSETTO:-0500
TZNAME:EST
DTSTART:20171105T060000
END:STANDARD
BEGIN:DAYLIGHT
TZOFFSETFROM:-0500
TZOFFSETTO:-0400
TZNAME:EDT
DTSTART:20180311T070000
END:DAYLIGHT
BEGIN:STANDARD
TZOFFSETFROM:-0400
TZOFFSETTO:-0500
TZNAME:EST
DTSTART:20181104T060000
END:STANDARD
BEGIN:DAYLIGHT
TZOFFSETFROM:-0500
TZOFFSETTO:-0400
TZNAME:EDT
DTSTART:20190310T070000
END:DAYLIGHT
BEGIN:STANDARD
TZOFFSETFROM:-0400
TZOFFSETTO:-0500
TZNAME:EST
DTSTART:20191103T060000
END:STANDARD
BEGIN:DAYLIGHT
TZOFFSETFROM:-0500
TZOFFSETTO:-0400
TZNAME:EDT
DTSTART:20200308T070000
END:DAYLIGHT
BEGIN:STANDARD
TZOFFSETFROM:-0400
TZOFFSETTO:-0500
TZNAME:EST
DTSTART:20201101T060000
END:STANDARD
BEGIN:DAYLIGHT
TZOFFSETFROM:-0500
TZOFFSETTO:-0400
TZNAME:EDT
DTSTART:20210314T070000
END:DAYLIGHT
BEGIN:STANDARD
TZOFFSETFROM:-0400
TZOFFSETTO:-0500
TZNAME:EST
DTSTART:20211107T060000
END:STANDARD
END:VTIMEZONE
BEGIN:VEVENT
DTSTART;TZID=America/New_York:20210722T120000
DTEND;TZID=America/New_York:20210722T130000
DTSTAMP:20260423T210805
CREATED:20210722T193501Z
LAST-MODIFIED:20221013T141823Z
UID:13819-1626955200-1626958800@yourya.org
SUMMARY:CE Workshop Series | Three Principles of Spiritual Leadership: Self-Discipline\, Part 3
DESCRIPTION:The Bhagavad Gita is a call to action. Beyond the asceticism of a solitary yoga practice for the sake of one’s own liberation\, is the higher practice of fighting for the sake of the world’s welfare. This workshop series\, based on the third chapter of the Bhagavad Gita\, discusses the practical application of three leadership principles that can empower us to lead without egoism\, see beyond illusion\, and exemplify action for all the world to follow. This series helps prepare those who know that the world needs them\, to step up into a position of spiritual leadership. Part 3 of this series focuses on self-discipline.
URL:https://www.yogaalliance.org/Get_Involved/COVID-19_Resources/Archived_COVID-19_Workshops_and_Events/CE_Workshop_Series_Three_Principles_of_Spiritual_Leadership_Self-Discipline_Part_3#new_tab
CATEGORIES:Archived,CE Workshop,Philosophy,Yoga Basics
ATTACH;FMTTYPE=image/jpeg:https://yourya.org/wp-content/uploads/2021/06/07.08_CE_Leadership_Series1_1080x608_calendar.jpg
END:VEVENT
BEGIN:VEVENT
DTSTART;TZID=America/New_York:20210721T140000
DTEND;TZID=America/New_York:20210721T150000
DTSTAMP:20260423T210805
CREATED:20210721T192539Z
LAST-MODIFIED:20221013T141913Z
UID:13815-1626876000-1626879600@yourya.org
SUMMARY:Yoga Lineages | An Introduction to Viniyoga
DESCRIPTION:In this event\, wellness expert Kim Weeks and Gary Kraftsow\, Founder and Director of the American Viniyoga Institute\, explore the origins\, evolution\, and modern-day story of the lineage of Viniyoga: a comprehensive and authentic transmission of the teachings of yoga including asana\, pranayama\, bandha\, sound\, chanting\, meditation\, personal ritual\, and study of texts. Viniyoga (prefixes vi and ni plus yoga) is an ancient Sanskrit term that implies differentiation\, adaptation\, and appropriate application.\n \nYoga continues to evolve to include deeply varied styles and types of practice\, all rooted in a shared ancient history. Yoga Lineages is a series of conversations that explores seven of today’s most widely recognized yoga lineages\, revealing what is unique about these practices. Whether you’re seeking peace of mind\, strength in body\, or are simply interested in finding a more mindful way of living\, yoga can help and is a practice for all.
URL:https://www.yogaalliance.org/Get_Involved/COVID-19_Resources/Archived_COVID-19_Workshops_and_Events/Yoga_Lineages_An_Introduction_to_Viniyoga#new_tab
CATEGORIES:Archived,Lineages Series,Philosophy,Yoga Basics
ATTACH;FMTTYPE=image/jpeg:https://yourya.org/wp-content/uploads/2021/06/07.21_LS_Viniyoga_1080x608_calendar.jpg
END:VEVENT
BEGIN:VEVENT
DTSTART;TZID=America/New_York:20210630T120000
DTEND;TZID=America/New_York:20210630T130000
DTSTAMP:20260423T210805
CREATED:20210630T182046Z
LAST-MODIFIED:20221013T142817Z
UID:13682-1625054400-1625058000@yourya.org
SUMMARY:Yoga Lineages | Integral Yoga Practice
DESCRIPTION:Practice Integral Yoga in this asana class. This lineage synthesizes six branches of yoga into a comprehensive lifestyle system: Hatha\, Raja\, Bhakti\, Karma\, Jnana\, and Japa. This multi-level Integral Yoga class strikes a balance between “ha” (heating solar energies)\, and “tha” (cooling lunar energies)\, generating both strength and flexibility. Move with meditative awareness and allow time for the body to release more fully. Get in touch with the vital force (prana) that lies underneath the physical sensations. 
URL:https://www.yogaalliance.org/Get_Involved/COVID-19_Resources/Archived_COVID-19_Workshops_and_Events/Yoga_Lineages_Integral_Yoga_Practice#new_tab
CATEGORIES:Archived,Lineages Series,Philosophy,Yoga Basics
ATTACH;FMTTYPE=image/jpeg:https://yourya.org/wp-content/uploads/2021/05/06.30_LS_IntegralPractice_1080x608_calendar.jpg
END:VEVENT
BEGIN:VEVENT
DTSTART;TZID=America/New_York:20210623T120000
DTEND;TZID=America/New_York:20210623T130000
DTSTAMP:20260423T210805
CREATED:20210623T175939Z
LAST-MODIFIED:20221013T143039Z
UID:13680-1624449600-1624453200@yourya.org
SUMMARY:Yoga Lineages | An Introduction to Integral Yoga
DESCRIPTION:In this event\, host Kim Weeks and Swami Asokananda\, President and Spiritual Director of the New York Integral Yoga Institute\, explore the origins\, evolution\, and modern-day story of Integral Yoga. This practice synthesizes six branches of yoga into a comprehensive lifestyle system: Hatha\, Raja\, Bhakti\, Karma\, Jnana\, and Japa.\nYoga continues to evolve to include deeply varied styles and types of practice\, all rooted in a shared ancient history. Yoga Lineages is a series of conversations that explores seven of today’s most widely recognized yoga lineages\, revealing what is unique about these practices. Whether you’re seeking peace of mind\, strength in body\, or are simply interested in finding a more mindful way of living\, yoga can help and is a practice for all.
URL:https://www.yogaalliance.org/Get_Involved/COVID-19_Resources/Archived_COVID-19_Workshops_and_Events/Yoga_Lineages_An_Introduction_to_Integral_Yoga#new_tab
CATEGORIES:Archived,Lineages Series,Philosophy,Yoga Basics
ATTACH;FMTTYPE=image/jpeg:https://yourya.org/wp-content/uploads/2021/05/06.23_LS_Integral_1080x608_calendar.jpg
END:VEVENT
BEGIN:VEVENT
DTSTART;TZID=America/New_York:20210511T120000
DTEND;TZID=America/New_York:20210511T130000
DTSTAMP:20260423T210805
CREATED:20210511T145456Z
LAST-MODIFIED:20221013T151115Z
UID:13476-1620734400-1620738000@yourya.org
SUMMARY:CE Workshop | 4 Simple Exercises for Pranayama
DESCRIPTION:Enrich your practice and teaching with enjoyable and logical Pranayama exercises. Guided by Patanjali’s sutras\, this workshop playfully explores a set of accessible and practical breathing exercises that develop sensitivity to the nuances of inhalation\, exhalation\, and basic retention. These simple exercises can be taught as an introduction to Pranayama for beginner yoga students\, and even seasoned yoga practitioners are often surprised by the effectiveness of this approach. Get ready to fall in love with your breath!
URL:https://www.yogaalliance.org/Get_Involved/COVID-19_Resources/Archived_COVID-19_Workshops_and_Events/CE_Workshop_4_Simple_Exercises_for_Pranayama#new_tab
CATEGORIES:Archived,CE Workshop,Yoga Basics,Yoga Teaching Skills
ATTACH;FMTTYPE=image/jpeg:https://yourya.org/wp-content/uploads/2021/04/05.11_CE_English_1080x608_calendar.jpg
END:VEVENT
BEGIN:VEVENT
DTSTART;TZID=America/New_York:20210504T100000
DTEND;TZID=America/New_York:20210504T110000
DTSTAMP:20260423T210805
CREATED:20210504T144742Z
LAST-MODIFIED:20221013T151219Z
UID:13469-1620122400-1620126000@yourya.org
SUMMARY:CE Workshop | 4 Ejercicios Sencillos para Pranayama
DESCRIPTION:Enriquece tu práctica y tu forma de enseñar con ejercicios de Pranayama agradables y lógicos. Guiados por los sutras de Patanjali\, exploraremos con curiosidad lúdica un conjunto de ejercicios de respiración accesibles y prácticos que desarrollan la sensibilidad a los matices de la inhalación\, la exhalación y la retención básica. Estos sencillos ejercicios se pueden enseñar como una introducción al Pranayama para principiantes. Incluso estudiantes de yoga experimentados a menudo se sorprenden por la efectividad de este enfoque. ¡Prepárate para enamorarte de tu respiración!
URL:https://www.yogaalliance.org/Get_Involved/COVID-19_Resources/Archived_COVID-19_Workshops_and_Events/CE_Workshop_4_Ejercicios_Sencillos_para_Pranayama#new_tab
CATEGORIES:Archived,Español,Yoga Basics,Yoga Teaching Skills
ATTACH;FMTTYPE=image/jpeg:https://yourya.org/wp-content/uploads/2021/04/05.04_CE_Spanish_1080x608_calendar.jpg
END:VEVENT
BEGIN:VEVENT
DTSTART;TZID=America/New_York:20210331T120000
DTEND;TZID=America/New_York:20210331T130000
DTSTAMP:20260423T210805
CREATED:20210331T172818Z
LAST-MODIFIED:20221013T151906Z
UID:13154-1617192000-1617195600@yourya.org
SUMMARY:Yoga Alliance Office Hours | Yoga and Religion
DESCRIPTION:Explore yoga and religion with two great leaders on the topic—Hari-Kirtana das and Yoga Alliance’s Vice President of Standards\, Dr. Christa Kuberry. In this series\, expert panelists open their office doors\, answer participant questions\, and centralize discussion on nuanced and complex yogic topics.
URL:https://www.yogaalliance.org/Get_Involved/COVID-19_Resources/Archived_COVID-19_Workshops_and_Events/Yoga_Alliance_Office_Hours_Yoga_and_Religion#new_tab
CATEGORIES:Archived,Office Hours,Philosophy,Yoga Basics
ATTACH;FMTTYPE=image/jpeg:https://yourya.org/wp-content/uploads/2021/03/03.31_OO_Religion_1080x608_calendar.jpg
END:VEVENT
BEGIN:VEVENT
DTSTART;TZID=America/New_York:20210326T140000
DTEND;TZID=America/New_York:20210326T150000
DTSTAMP:20260423T210805
CREATED:20210327T001203Z
LAST-MODIFIED:20221013T152014Z
UID:13015-1616767200-1616770800@yourya.org
SUMMARY:CE Workshop | Teaching to a Peak Posture
DESCRIPTION:Explore intricate and interesting stretches and shapes to build to the peak pose Bird of Paradise. Learn arm balances as prep postures and creative nuances to travel through hamstring\, hip\, and shoulder work. Take the time in this workshop to embody the actual shape rather than whizzing right through it. Explore curious\, smart\, and fun orientations of Bird of Paradise and work deeper than you have before to reap the benefits\, breath space into the asana\, and find ease in the process.
URL:https://www.yogaalliance.org/Get_Involved/COVID-19_Resources/Archived_COVID-19_Workshops_and_Events/CE_Workshop_Teaching_to_a_Peak_Posture#new_tab
CATEGORIES:Archived,CE Workshop,Yoga Basics,Yoga Teaching Skills
ATTACH;FMTTYPE=image/jpeg:https://yourya.org/wp-content/uploads/2021/02/03.26_CE_Peak_1080x608_calendar.jpg
END:VEVENT
BEGIN:VEVENT
DTSTART;TZID=America/New_York:20210305T120000
DTEND;TZID=America/New_York:20210305T133000
DTSTAMP:20260423T210805
CREATED:20210305T235818Z
LAST-MODIFIED:20221013T152922Z
UID:12957-1614945600-1614951000@yourya.org
SUMMARY:Master Class | Stressed About Yin Yoga
DESCRIPTION:This master class guides you through a Yin Yoga practice that draws upon healing tools and techniques rooted in Taoist principles\, Traditional Chinese Medicine\, and the 5 Element Theory. Presenter Kiesha Battles also shares the origins and principles (tattvas) of Yin Yoga.
URL:https://www.yogaalliance.org/Get_Involved/COVID-19_Resources/Archived_COVID-19_Workshops_and_Events/Master_Class_Stressed_About_Yin_Yoga_0305#new_tab
CATEGORIES:Archived,Master Class,Yoga Basics
ATTACH;FMTTYPE=image/jpeg:https://yourya.org/wp-content/uploads/2021/02/03.05_MC_KB_1080x608_calendar.jpg
END:VEVENT
BEGIN:VEVENT
DTSTART;TZID=America/New_York:20210217T140000
DTEND;TZID=America/New_York:20210217T150000
DTSTAMP:20260423T210805
CREATED:20210217T210047Z
LAST-MODIFIED:20221013T153453Z
UID:12347-1613570400-1613574000@yourya.org
SUMMARY:CE Workshop | The Journey of Malcolm X: History and the Practice of Jyotish Yoga
DESCRIPTION:Jyotish Yoga is a valued practice of Ayurveda and yoga\, which provides insight into karma\, dharma\, and transformation. This workshop offers a basic overview of this system by sharing the legacy of Malcolm X. Malcolm X—an inspiring political leader\, a man of devotion and transformation—provides a means to see Jyotish Yoga in action. Discussion focuses on yoga\, race\, class\, and transformation.
URL:https://www.yogaalliance.org/Get_Involved/COVID-19_Resources/Archived_COVID-19_Workshops_and_Events/CE_Workshop_The_Journey_of_Malcolm_X_History_and_the_Practice_of_Jyotish_Yoga#new_tab
CATEGORIES:Archived,CE Workshop,Yoga Basics
ATTACH;FMTTYPE=image/jpeg:https://yourya.org/wp-content/uploads/2020/12/02.17_CE_Jyotish_1080x608_calendar.jpg
END:VEVENT
BEGIN:VEVENT
DTSTART;TZID=America/New_York:20210210T160000
DTEND;TZID=America/New_York:20210210T170000
DTSTAMP:20260423T210805
CREATED:20210210T163932Z
LAST-MODIFIED:20221013T153640Z
UID:12651-1612972800-1612976400@yourya.org
SUMMARY:CE Workshop | Y12R – Yoga of 12-Step Recovery
DESCRIPTION:Learn about Y12R – Yoga of 12-Step Recovery—a community organization and education platform dedicated to healing ALL addictions. Guided by its theme ‘The Issues Live in The Tissues\,’ Y12SR is a program and a process that was developed in response to the need for a multi-dimensional approach to addiction recovery.
URL:https://www.yogaalliance.org/Get_Involved/COVID-19_Resources/Archived_COVID-19_Workshops_and_Events/CE_Workshop_Y12R_Yoga_of_12-Step_Recovery#new_tab
CATEGORIES:Archived,CE Workshop,Yoga Basics
ATTACH;FMTTYPE=image/jpeg:https://yourya.org/wp-content/uploads/2021/01/02.10_CE_12step_1080x608_calendar.jpg
END:VEVENT
BEGIN:VEVENT
DTSTART;TZID=America/New_York:20210205T120000
DTEND;TZID=America/New_York:20210205T133000
DTSTAMP:20260423T210805
CREATED:20210205T204437Z
LAST-MODIFIED:20221013T153752Z
UID:12336-1612526400-1612531800@yourya.org
SUMMARY:Master Class | Intro to Radiant Rest: A Path to Deep Relaxation and Freedom
DESCRIPTION:Sharing wisdom and teachings from her new book Radiant Rest\, author and prominent teacher Tracee Stanley introduces event participants into the practice of deep relaxation\, and how to weave rest practices into their daily lives to empower thriving.
URL:https://www.yogaalliance.org/Get_Involved/COVID-19_Resources/Archived_COVID-19_Workshops_and_Events/Master_Class_Intro_to_Radiant_Rest_A_Path_to_Deep_Relaxation_and_Freedom#new_tab
CATEGORIES:Archived,Master Class,Yoga Basics
ATTACH;FMTTYPE=image/jpeg:https://yourya.org/wp-content/uploads/2020/12/02.05_MC_TS_1080x608_calendar.jpg
END:VEVENT
BEGIN:VEVENT
DTSTART;TZID=America/New_York:20210203T143000
DTEND;TZID=America/New_York:20210203T153000
DTSTAMP:20260423T210805
CREATED:20210203T204117Z
LAST-MODIFIED:20221013T153907Z
UID:12332-1612362600-1612366200@yourya.org
SUMMARY:CE Workshop | Energy Flow Practice
DESCRIPTION:Presenter Angela (Dharma) Fears has designed this yoga session to allow for a personal experience of energetic anatomy. This session supports harmony and awareness in the body. Breath\, meditation\, and movement guide participants to experience fluid movement and traditional yoga. Plus\, built-in contemplation time makes space for reflection on the experience. Bring your mat\, a block\, and your journal for an inspired practice!
URL:https://www.yogaalliance.org/Get_Involved/COVID-19_Resources/Archived_COVID-19_Workshops_and_Events/CE_Workshop_Energy_Flow_Practice#new_tab
CATEGORIES:Archived,CE Workshop,Yoga Basics
ATTACH;FMTTYPE=image/jpeg:https://yourya.org/wp-content/uploads/2020/12/02.03_CE_Energy_1080x608_calendar.jpg
END:VEVENT
BEGIN:VEVENT
DTSTART;TZID=America/New_York:20201204T090000
DTEND;TZID=America/New_York:20201204T103000
DTSTAMP:20260423T210805
CREATED:20201204T173055Z
LAST-MODIFIED:20221013T155425Z
UID:12085-1607072400-1607077800@yourya.org
SUMMARY:Master Class | Asana\, Pranayama\, and Dharana
DESCRIPTION:Experience a simple breath-based asana practice that will follow a certain sequence of preparation\, goals\, and counterposes followed by pranayama and a short meditative practice. Instructions will be minimal so that you can observe your body\, listen to your breath\, and experience inner quietness.
URL:https://www.yogaalliance.org/Get_Involved/COVID-19_Resources/Archived_COVID-19_Workshops_and_Events/Master_Class_Asana_Pranayama_and_Dharana#new_tab
CATEGORIES:Archived,Master Class,Yoga Basics
ATTACH;FMTTYPE=image/jpeg:https://yourya.org/wp-content/uploads/2020/11/12.04_MC_S_1080x608_calendar.jpg
END:VEVENT
BEGIN:VEVENT
DTSTART;TZID=America/New_York:20200824T140000
DTEND;TZID=America/New_York:20200824T143000
DTSTAMP:20260423T210805
CREATED:20200824T180029Z
LAST-MODIFIED:20221013T185411Z
UID:10161-1598277600-1598279400@yourya.org
SUMMARY:Community Sangha | Teaching Yoga in India
DESCRIPTION:Have you wondered what it’s like to teach yoga in India? Learn about this unique experience and gain useful insight that can help you become a more compassionate and effective teacher working with students of diverse cultural\, life-stage\, body type\, and psychometric profiles.
URL:https://www.yogaalliance.org/Get_Involved/COVID-19_Resources/Archived_COVID-19_Workshops_and_Events/Community_Sangha_Teaching_Yoga_in_India#new_tab
CATEGORIES:Archived,Community Events,Community Gatherings,Yoga Basics
ATTACH;FMTTYPE=image/jpeg:https://yourya.org/wp-content/uploads/2020/07/08.24_CS_YogaIndia_1080x608_calendar.jpg
END:VEVENT
BEGIN:VEVENT
DTSTART;TZID=America/New_York:20200616T140000
DTEND;TZID=America/New_York:20200616T150000
DTSTAMP:20260423T210805
CREATED:20200616T180023Z
LAST-MODIFIED:20221013T192056Z
UID:9414-1592316000-1592319600@yourya.org
SUMMARY:CE Workshop | Teaching Yoga for the Whole Family
DESCRIPTION:Yoga and mindfulness can help children and families build self-regulatory skills\, resilience\, social awareness\, confidence\, and fitness while connecting to their bodies in a loving and fun way. Learn how to expand your teaching for all ages and what it takes to be a family yoga instructor.
URL:https://www.yogaalliance.org/Get_Involved/COVID-19_Resources/Archived_COVID-19_Workshops_and_Events/CE_Workshop_Teaching_Yoga_for_the_Whole_Family
CATEGORIES:Archived,CE Workshop,Yoga Basics,Yoga Teaching Skills
ATTACH;FMTTYPE=image/jpeg:https://yourya.org/wp-content/uploads/2020/06/Calendar_Yoga_Children_6.16.jpg
END:VEVENT
BEGIN:VEVENT
DTSTART;TZID=America/New_York:20200529T100000
DTEND;TZID=America/New_York:20200529T103000
DTSTAMP:20260423T210805
CREATED:20200529T140035Z
LAST-MODIFIED:20221013T193017Z
UID:8952-1590746400-1590748200@yourya.org
SUMMARY:Community Sangha | Teaching Yoga to Older Adults
DESCRIPTION:Jana Long (E-RYT 500\, YACEP\, C-IAYT) joins Yoga Alliance’s Vice President of Cross-Cultural Advancement Maya Breuer (E-RYT 500\, YACEP) in this online gathering to bring yoga schools\, teachers\, and students together during this time of social distancing.
URL:https://www.yogaalliance.org/Get_Involved/COVID-19_Resources/Archived_COVID-19_Workshops_and_Events/Community_Sangha_Teaching_Yoga_to_Older_Adults
CATEGORIES:Archived,Community Events,Yoga Basics,Yoga Teaching Skills
ATTACH;FMTTYPE=image/jpeg:https://yourya.org/wp-content/uploads/2020/05/Calendar_Sangha-older.jpg
END:VEVENT
BEGIN:VEVENT
DTSTART;TZID=America/New_York:20200512T140000
DTEND;TZID=America/New_York:20200512T150000
DTSTAMP:20260423T210805
CREATED:20200512T180010Z
LAST-MODIFIED:20221013T193506Z
UID:8713-1589292000-1589295600@yourya.org
SUMMARY:CE Workshop | How to Keep Yoga Simple in High-Stress Environments
DESCRIPTION:Join Marisa Righi and Jack Marsh as they share experience teaching mindfulness to social workers who operate in high-stress work environments. Walk away from this workshop with simple wellness and goal-setting exercises\, and philosophy that can be utilized in your own office setting.
URL:https://www.yogaalliance.org/Get_Involved/COVID-19_Resources/Archived_COVID-19_Workshops_and_Events/CE_Workshop_How_to_Keep_Yoga_Simple
CATEGORIES:Archived,CE Workshop,Yoga Basics,Yoga Teaching Skills
ATTACH;FMTTYPE=image/jpeg:https://yourya.org/wp-content/uploads/2020/05/Calendar_High-Stress.jpg
END:VEVENT
BEGIN:VEVENT
DTSTART;TZID=America/New_York:20200320T100000
DTEND;TZID=America/New_York:20200320T103000
DTSTAMP:20260423T210805
CREATED:20200320T140048Z
LAST-MODIFIED:20221013T195021Z
UID:15206-1584698400-1584700200@yourya.org
SUMMARY:Community Sangha | The Benefits of the Yoga Practice
DESCRIPTION:Keisha Battles joins Vice President of Cross-Cultural Advancement Maya Breuer in this online gathering to bring yoga schools\, teachers\, and students together during this time of social distancing.
URL:https://www.yogaalliance.org/Get_Involved/COVID-19_Resources/Archived_COVID-19_Workshops_and_Events/Community_Sangha_The_Benefits_of_the_Yoga_Practice#new_tab
CATEGORIES:Archived,Yoga Basics,Yoga Teaching Skills
ATTACH;FMTTYPE=image/jpeg:https://yourya.org/wp-content/uploads/2022/10/battles-temp.jpg
END:VEVENT
BEGIN:VEVENT
DTSTART;VALUE=DATE:20160719
DTEND;VALUE=DATE:20160720
DTSTAMP:20260423T210805
CREATED:20160720T003827Z
LAST-MODIFIED:20221013T003924Z
UID:15287-1468886400-1468972799@yourya.org
SUMMARY:CE Workshop | The Art of Setting an Intention in Yoga Class
DESCRIPTION:Communicate your passions and empower students to be more mindful on the mat and in their daily lives. Learn how to brainstorm rich and topical themes and intentions\, creating classes that provide a profound experience for your students. Cultivate a yoga class that flows like a good novel: with a beginning\, middle and end to new and different levels of awareness\, experience and ability.
URL:https://www.yogaalliance.org/Membership_Benefits/Upcoming_Online_Workshops/CE_Workshop_The_Art_of_Setting_an_Intention_in_Yoga_Class#new_tab
CATEGORIES:Archived,Yoga Basics,Yoga Teaching Skills
ATTACH;FMTTYPE=image/jpeg:https://yourya.org/wp-content/uploads/2020/06/CE-workshop-blank.jpg
END:VEVENT
END:VCALENDAR