BEGIN:VCALENDAR
VERSION:2.0
PRODID:-//Your Yoga Alliance - ECPv5.14.1//NONSGML v1.0//EN
CALSCALE:GREGORIAN
METHOD:PUBLISH
X-WR-CALNAME:Your Yoga Alliance
X-ORIGINAL-URL:https://yourya.org
X-WR-CALDESC:Events for Your Yoga Alliance
REFRESH-INTERVAL;VALUE=DURATION:PT1H
X-Robots-Tag:noindex
X-PUBLISHED-TTL:PT1H
BEGIN:VTIMEZONE
TZID:America/New_York
BEGIN:DAYLIGHT
TZOFFSETFROM:-0500
TZOFFSETTO:-0400
TZNAME:EDT
DTSTART:20200308T070000
END:DAYLIGHT
BEGIN:STANDARD
TZOFFSETFROM:-0400
TZOFFSETTO:-0500
TZNAME:EST
DTSTART:20201101T060000
END:STANDARD
END:VTIMEZONE
BEGIN:VEVENT
DTSTART;TZID=America/New_York:20200702T140000
DTEND;TZID=America/New_York:20200702T150000
DTSTAMP:20260424T051653
CREATED:20200702T180001Z
LAST-MODIFIED:20221013T191350Z
UID:9527-1593698400-1593702000@yourya.org
SUMMARY:CE Workshop | The Yoga of Relationship
DESCRIPTION:Understand the multidimensional nature of the human system and the corresponding multifaceted practices as taught by the Ancients. This workshop will begin to explore the breadth of these teachings and practices and the ways in which we can integrate them into our personal yoga practice and teaching.
URL:https://www.yogaalliance.org/Get_Involved/COVID-19_Resources/Archived_COVID-19_Workshops_and_Events/CE_Workshop_The_Yoga_of_Relationship
CATEGORIES:Archived,CE Workshop,Philosophy,Yoga Teaching Skills
ATTACH;FMTTYPE=image/jpeg:https://yourya.org/wp-content/uploads/2020/06/07.02_CE_Relationship_1080x608_calendar-AE.jpg
END:VEVENT
BEGIN:VEVENT
DTSTART;TZID=America/New_York:20200706T120000
DTEND;TZID=America/New_York:20200706T130000
DTSTAMP:20260424T051653
CREATED:20200706T160036Z
LAST-MODIFIED:20221014T164715Z
UID:9562-1594036800-1594040400@yourya.org
SUMMARY:CE Workshop | Scientific Research on Yoga and Trauma
DESCRIPTION:In this workshop\, you will sharpen your working definitions and understandings of trauma and Post-Traumatic Stress Disorder (PTSD). Here\, experts expand on these topics and explain why yoga is a good modality for trauma\, compared with and as an adjunct to pharmaceutical interventions.
URL:https://www.yogaalliance.org/Get_Involved/COVID-19_Resources/Archived_COVID-19_Workshops_and_Events/CE_Workshop_Scientific_Research_on_Yoga_and_Trauma
CATEGORIES:Archived,CE Workshop,Research Discussion,Scientific Research on Yoga,Yoga Teaching Skills
ATTACH;FMTTYPE=image/jpeg:https://yourya.org/wp-content/uploads/2020/07/07.06_Trauma_1080x608_calendar.jpg
END:VEVENT
BEGIN:VEVENT
DTSTART;TZID=America/New_York:20200709T140000
DTEND;TZID=America/New_York:20200709T150000
DTSTAMP:20260424T051653
CREATED:20200709T180048Z
LAST-MODIFIED:20221013T192336Z
UID:9572-1594303200-1594306800@yourya.org
SUMMARY:CE Workshop | Origins and Authenticity in Modern Yoga\, Part 1
DESCRIPTION:This workshop series untangles the complicated roots of our modern yoga practice. From Indian ascetics\, tantric mystics\, and bodybuilders to European philosophers\, wizards\, and dancers\, we’ll trace the wild rhizomatic web that got us to today’s physical and spiritual practices.
URL:https://www.yogaalliance.org/Get_Involved/COVID-19_Resources/Archived_COVID-19_Workshops_and_Events/CE_Workshop_Origins_and_Authenticity_in_Modern_Yoga_Part_1
CATEGORIES:Archived,CE Workshop,Philosophy,Yoga Teaching Skills
ATTACH;FMTTYPE=image/jpeg:https://yourya.org/wp-content/uploads/2020/06/07.09_CE_Origins_ship_1080x608_calendar.jpg
END:VEVENT
BEGIN:VEVENT
DTSTART;TZID=America/New_York:20200713T120000
DTEND;TZID=America/New_York:20200713T130000
DTSTAMP:20260424T051653
CREATED:20200713T160041Z
LAST-MODIFIED:20221013T191617Z
UID:9576-1594641600-1594645200@yourya.org
SUMMARY:Research Discussion | Bringing Scientific Research to Life: Trauma
DESCRIPTION:Sharpen your understanding of trauma and Post-Traumatic Stress Disorder (PTSD). Here\, guest panelists offer their most notable experiences and learnings from teaching yoga for trauma survivors and take questions related to the many aspects of this fast-growing field of mind/body healing.
URL:https://www.yogaalliance.org/Get_Involved/COVID-19_Resources/Archived_COVID-19_Workshops_and_Events/Research_Discussion_Bringing_Scientific_Research_to_Life_071320
CATEGORIES:Archived,Facebook Live,Research Discussion,Scientific Research on Yoga,Yoga Teaching Skills
ATTACH;FMTTYPE=image/jpeg:https://yourya.org/wp-content/uploads/2020/06/07.13_ResearchDiscussion_ship_1080x608_calendar-1.jpg
END:VEVENT
BEGIN:VEVENT
DTSTART;TZID=America/New_York:20200713T140000
DTEND;TZID=America/New_York:20200713T150000
DTSTAMP:20260424T051653
CREATED:20200713T180017Z
LAST-MODIFIED:20221013T191607Z
UID:9578-1594648800-1594652400@yourya.org
SUMMARY:Community Sangha | Meditation in Nature
DESCRIPTION:Nature is a powerful way to draw a restless and worried mind back to a state of profound balance. This workshop will explore the ways we can draw on our natural surroundings as a vehicle for waking up and includes suggestions on guiding students into a meditative state ripe for insight.
URL:https://www.yogaalliance.org/Get_Involved/COVID-19_Resources/Archived_COVID-19_Workshops_and_Events/Community_Sangha_Meditation_in_Nature
CATEGORIES:Archived,Community Events,Philosophy,Yoga Teaching Skills
ATTACH;FMTTYPE=image/jpeg:https://yourya.org/wp-content/uploads/2020/06/07.13_CS_MeditationNature_1080x608_calendar.jpg
END:VEVENT
BEGIN:VEVENT
DTSTART;TZID=America/New_York:20200716T140000
DTEND;TZID=America/New_York:20200716T150000
DTSTAMP:20260424T051653
CREATED:20200716T180055Z
LAST-MODIFIED:20221013T191546Z
UID:9589-1594908000-1594911600@yourya.org
SUMMARY:CE Workshop | Origins and Authenticity in Modern Yoga\, Part 2
DESCRIPTION:This workshop series untangles the complicated roots of our modern yoga practice. From Indian ascetics\, tantric mystics\, and bodybuilders to European philosophers\, wizards\, and dancers\, we’ll trace the wild rhizomatic web that got us to today’s physical and spiritual practices.
URL:https://www.yogaalliance.org/Get_Involved/COVID-19_Resources/Archived_COVID-19_Workshops_and_Events/CE_Workshop_Origins_and_Authenticity_in_Modern_Yoga_Part_2
CATEGORIES:Archived,CE Workshop,Philosophy,Yoga Teaching Skills
ATTACH;FMTTYPE=image/jpeg:https://yourya.org/wp-content/uploads/2020/06/07.09_CE_Origins_ship_1080x608_calendar.jpg
END:VEVENT
BEGIN:VEVENT
DTSTART;TZID=America/New_York:20200720T140000
DTEND;TZID=America/New_York:20200720T143000
DTSTAMP:20260424T051653
CREATED:20200720T180008Z
LAST-MODIFIED:20221013T190018Z
UID:9710-1595253600-1595255400@yourya.org
SUMMARY:Community Sangha | Reconciliation and Social Justice from an Indigenous Perspective
DESCRIPTION:This sangha offers a transformative process of building communities to wholeness. Participants will develop a greater capacity for empathy in providing healing for both those who are harmed and those who cause harm.
URL:https://www.yogaalliance.org/Get_Involved/COVID-19_Resources/Archived_COVID-19_Workshops_and_Events/Community_Sangha_Reconciliation_and_Social_Justice_from_an_Indigenous_Perspective
CATEGORIES:Archived,Community Events,Diversity, Equity & Inclusion,Yoga Teaching Skills
ATTACH;FMTTYPE=image/jpeg:https://yourya.org/wp-content/uploads/2020/07/Calendar_Reconciliation.jpg
END:VEVENT
BEGIN:VEVENT
DTSTART;TZID=America/New_York:20200723T140000
DTEND;TZID=America/New_York:20200723T150000
DTSTAMP:20260424T051653
CREATED:20200723T180055Z
LAST-MODIFIED:20221013T185956Z
UID:9599-1595512800-1595516400@yourya.org
SUMMARY:CE Workshop | Origins and Authenticity in Modern Yoga\, Part 3
DESCRIPTION:A four part series with Anya P. Foxen\, Ph.D.\, Assistant Professor of Religious Studies and Women’s and Gender Studies at California Polytechnic State University\, San Luis Obispo.\n \nThis workshop series untangles the complicated roots of our modern yoga practice. From Indian ascetics\, tantric mystics\, and bodybuilders\, to European philosophers\, wizards\, and dancers\, we’ll trace the wild rhizomatic web that got us to the physical and spiritual practices of today. Closed captioning will be available.
URL:https://www.yogaalliance.org/Get_Involved/COVID-19_Resources/Archived_COVID-19_Workshops_and_Events/CE_Workshop_Origins_and_Authenticity_in_Modern_Yoga_Part_3
CATEGORIES:Archived,CE Workshop,Philosophy,Yoga Teaching Skills
ATTACH;FMTTYPE=image/jpeg:https://yourya.org/wp-content/uploads/2020/06/07.09_CE_Origins_ship_1080x608_calendar.jpg
END:VEVENT
BEGIN:VEVENT
DTSTART;TZID=America/New_York:20200727T140000
DTEND;TZID=America/New_York:20200727T143000
DTSTAMP:20260424T051653
CREATED:20200727T180047Z
LAST-MODIFIED:20221013T185928Z
UID:9715-1595858400-1595860200@yourya.org
SUMMARY:Community Sangha | Transitioning to Online Learning
DESCRIPTION:Here\, presenters discuss their experiences creating sacred space and having a presence online. Attendees will walk away with insightful tips and practical advice on moving their yoga teaching professions to virtual spaces.
URL:https://www.yogaalliance.org/Get_Involved/COVID-19_Resources/Archived_COVID-19_Workshops_and_Events/Community_Sangha_Transitioning_to_Online_Learning
CATEGORIES:Archived,Community Events,For New Teachers,Yoga Teaching Skills
ATTACH;FMTTYPE=image/jpeg:https://yourya.org/wp-content/uploads/2020/07/07.27_TransitionOnline_1080x608_calendar-1.jpg
END:VEVENT
BEGIN:VEVENT
DTSTART;TZID=America/New_York:20200728T140000
DTEND;TZID=America/New_York:20200728T150000
DTSTAMP:20260424T051653
CREATED:20200728T180035Z
LAST-MODIFIED:20221013T185904Z
UID:9757-1595944800-1595948400@yourya.org
SUMMARY:CE Workshop | The Shoulder Breakdown: Understand and Apply Scapular Mechanics in Yoga
DESCRIPTION:Expand your knowledge and kinesthetic awareness of shoulder mechanics in yoga asana practice and learn to clearly articulate cues to help students access the kinesthetic experience in their bodies. This workshop also breaks down functional anatomy in weight-bearing and non-weight-bearing asanas.
URL:https://www.yogaalliance.org/Get_Involved/COVID-19_Resources/Archived_COVID-19_Workshops_and_Events/CE_Workshop_The_Shoulder_Breakdown_Understand_and_Apply_Scapular_Mechanics_in_Yoga
CATEGORIES:Anatomy,Archived,CE Workshop,Yoga Teaching Skills
ATTACH;FMTTYPE=image/jpeg:https://yourya.org/wp-content/uploads/2020/07/07.28_CE_Shoulder_1080x608_calendar.jpg
END:VEVENT
BEGIN:VEVENT
DTSTART;TZID=America/New_York:20200730T140000
DTEND;TZID=America/New_York:20200730T150000
DTSTAMP:20260424T051653
CREATED:20200730T180046Z
LAST-MODIFIED:20221013T185819Z
UID:9609-1596117600-1596121200@yourya.org
SUMMARY:CE Workshop | Origins and Authenticity in Modern Yoga\, Part 4
DESCRIPTION:A four part series with Anya P. Foxen\, Ph.D.\, Assistant Professor of Religious Studies and Women’s and Gender Studies at California Polytechnic State University\, San Luis Obispo.\n \nThis workshop series untangles the complicated roots of our modern yoga practice. From Indian ascetics\, tantric mystics\, and bodybuilders\, to European philosophers\, wizards\, and dancers\, we’ll trace the wild rhizomatic web that got us to the physical and spiritual practices of today. Closed captioning will be available.
URL:https://www.yogaalliance.org/Get_Involved/COVID-19_Resources/Archived_COVID-19_Workshops_and_Events/CE_Workshop_Origins_and_Authenticity_in_Modern_Yoga_Part_4#new_tab
CATEGORIES:Archived,CE Workshop,Philosophy,Yoga Teaching Skills
ATTACH;FMTTYPE=image/jpeg:https://yourya.org/wp-content/uploads/2020/06/07.09_CE_Origins_ship_1080x608_calendar.jpg
END:VEVENT
BEGIN:VEVENT
DTSTART;TZID=America/New_York:20200731T100000
DTEND;TZID=America/New_York:20200731T103000
DTSTAMP:20260424T051653
CREATED:20200731T140009Z
LAST-MODIFIED:20221013T185807Z
UID:9717-1596189600-1596191400@yourya.org
SUMMARY:Community Sangha | Moving the Body
DESCRIPTION:Laura Goodwin believes that at the core of achieving your best self you need to be able to manage both the internal and external stressors that arise on a daily basis. How do you achieve peace in times of chaos? How do you find optimal movement within an imperfect world? Come join me for this exciting workshop where you will learn corrective training technique fun and untraditional movement strategies\, and tools to help focus the mind and help heal the body. We will facilitate connections with the body through joy\, movement\, and self-love. Breathe\, you’ve got this!
URL:https://www.yogaalliance.org/Get_Involved/COVID-19_Resources/Archived_COVID-19_Workshops_and_Events/Community_Sangha_Moving_the_Body#new_tab
CATEGORIES:Anatomy,Archived,Community Events,Yoga Teaching Skills
ATTACH;FMTTYPE=image/jpeg:https://yourya.org/wp-content/uploads/2020/07/07.31_CS_MoveBody_1080x608_calendar.jpg
END:VEVENT
END:VCALENDAR