BEGIN:VCALENDAR
VERSION:2.0
PRODID:-//Your Yoga Alliance - ECPv5.14.1//NONSGML v1.0//EN
CALSCALE:GREGORIAN
METHOD:PUBLISH
X-WR-CALNAME:Your Yoga Alliance
X-ORIGINAL-URL:https://yourya.org
X-WR-CALDESC:Events for Your Yoga Alliance
REFRESH-INTERVAL;VALUE=DURATION:PT1H
X-Robots-Tag:noindex
X-PUBLISHED-TTL:PT1H
BEGIN:VTIMEZONE
TZID:America/New_York
BEGIN:DAYLIGHT
TZOFFSETFROM:-0500
TZOFFSETTO:-0400
TZNAME:EDT
DTSTART:20200308T070000
END:DAYLIGHT
BEGIN:STANDARD
TZOFFSETFROM:-0400
TZOFFSETTO:-0500
TZNAME:EST
DTSTART:20201101T060000
END:STANDARD
END:VTIMEZONE
BEGIN:VEVENT
DTSTART;TZID=America/New_York:20200901T100000
DTEND;TZID=America/New_York:20200901T110000
DTSTAMP:20260422T125939
CREATED:20200901T140015Z
LAST-MODIFIED:20221013T185153Z
UID:10125-1598954400-1598958000@yourya.org
SUMMARY:CE Workshop Serie | Hatha Yoga Pradipika Verstehen und Anwenden\, Teil 4
DESCRIPTION:Die Hatha Yoga Pradipika beschreibt die verschiedenen Stadien des Übens\, um das System des Hatha Yoga als Weg zur Erleuchtung zu nutzen. In diesem Kurs wirst du diese Stadien unterscheiden und in der eigenen Praxis anzuwenden lernen.
URL:https://www.yogaalliance.org/Get_Involved/COVID-19_Resources/Archived_COVID-19_Workshops_and_Events/CE_Workshop_Serie_Hatha_Yoga_Pradipika_verstehen_und_anwenden_Teil_4#new_tab
CATEGORIES:Archived,CE Workshop,Deutsch,Philosophy,Yoga Teaching Skills
ATTACH;FMTTYPE=image/jpeg:https://yourya.org/wp-content/uploads/2020/07/08_Series_CE_Pradipika4_1080x608_calendar.jpg
END:VEVENT
BEGIN:VEVENT
DTSTART;TZID=America/New_York:20200901T111500
DTEND;TZID=America/New_York:20200901T121500
DTSTAMP:20260422T125939
CREATED:20200901T151520Z
LAST-MODIFIED:20221013T185142Z
UID:10182-1598958900-1598962500@yourya.org
SUMMARY:CE Workshop Series | Hatha Yoga Pradipika\, Part 4
DESCRIPTION:The Hatha Yoga Pradipika writings explain the different stages of practice to help utilize the system of Hatha Yoga to reach enlightenment. In this four-part series\, participants learn to understand and distinguish these stages and adapt them to their unique practices.
URL:https://www.yogaalliance.org/Get_Involved/COVID-19_Resources/Archived_COVID-19_Workshops_and_Events/CE_Workshop_Hatha_Yoga_Pradipika_Series_Part_4#new_tab
CATEGORIES:Archived,CE Workshop,Philosophy,Yoga Teaching Skills
ATTACH;FMTTYPE=image/jpeg:https://yourya.org/wp-content/uploads/2020/07/08_Series_CE_Pradipika4_1080x608_calendar.jpg
END:VEVENT
BEGIN:VEVENT
DTSTART;TZID=America/New_York:20200902T130000
DTEND;TZID=America/New_York:20200902T140000
DTSTAMP:20260422T125939
CREATED:20200902T170053Z
LAST-MODIFIED:20221013T185053Z
UID:10127-1599051600-1599055200@yourya.org
SUMMARY:CE Workshop | Deepen Your Understanding of the Chakras\, Part 5
DESCRIPTION:This seven-part series invites yoga teachers to deepen their understanding of the chakras by exploring the personal\, interpersonal\, and transpersonal aspects of this powerful system. Each workshop features a brief lecture\, guided practice\, and interactive Q&A on a designated chakra.
URL:https://www.yogaalliance.org/Get_Involved/COVID-19_Resources/Archived_COVID-19_Workshops_and_Events/CE_Workshop_Deepen_Your_Understanding_of_the_Chakras_Part_5#new_tab
CATEGORIES:Archived,CE Workshop,Philosophy,Yoga Teaching Skills
ATTACH;FMTTYPE=image/jpeg:https://yourya.org/wp-content/uploads/2020/07/08_Series_CE_Chakras5_1080x608_calendar.jpg
END:VEVENT
BEGIN:VEVENT
DTSTART;TZID=America/New_York:20200903T140000
DTEND;TZID=America/New_York:20200903T150000
DTSTAMP:20260422T125939
CREATED:20200903T180033Z
LAST-MODIFIED:20221013T185042Z
UID:10129-1599141600-1599145200@yourya.org
SUMMARY:CE Workshop | Mantra Meditation: From Sound to Silence
DESCRIPTION:Mantra and meditation are fantastic tools to help navigate the inner landscapes of the mind\, heart\, and spirit. This workshop looks at the roots of mantra and meditation\, breaks down the techniques of a mantra Japa and Kirtan practice\, and applies them to daily sadhana and teaching offerings.
URL:https://www.yogaalliance.org/Get_Involved/COVID-19_Resources/Archived_COVID-19_Workshops_and_Events/CE_Workshop_Mantra_Meditation_From_Sound_to_Silence#new_tab
CATEGORIES:Archived,CE Workshop,Philosophy,Yoga Teaching Skills
ATTACH;FMTTYPE=image/jpeg:https://yourya.org/wp-content/uploads/2020/07/09.03_CE_SoundMantra_1080x608_calendar.jpg
END:VEVENT
BEGIN:VEVENT
DTSTART;TZID=America/New_York:20200904T120000
DTEND;TZID=America/New_York:20200904T133000
DTSTAMP:20260422T125939
CREATED:20200904T160007Z
LAST-MODIFIED:20221013T185031Z
UID:10398-1599220800-1599226200@yourya.org
SUMMARY:Master Class | Designing a Sacred Practice
DESCRIPTION:This masterclass guides you through a sacred practice that draws upon healing tools and techniques rooted in intuitive connection\, yogic principles\, and ancestral alignment. Presenter Faith Hunter also shares tips on blending practice and life and crafting experiences that go beyond “the yoga.”
URL:https://www.yogaalliance.org/Get_Involved/COVID-19_Resources/Archived_COVID-19_Workshops_and_Events/Master_Class_09042020#new_tab
CATEGORIES:Archived,Master Class,Yoga Teaching Skills
ATTACH;FMTTYPE=image/jpeg:https://yourya.org/wp-content/uploads/2020/08/09.04_MC_Sacred_1080x608_calendar.jpg
END:VEVENT
BEGIN:VEVENT
DTSTART;TZID=America/New_York:20200909T130000
DTEND;TZID=America/New_York:20200909T140000
DTSTAMP:20260422T125939
CREATED:20200909T170029Z
LAST-MODIFIED:20221013T185018Z
UID:10131-1599656400-1599660000@yourya.org
SUMMARY:CE Workshop | Deepen Your Understanding of the Chakras\, Part 6
DESCRIPTION:This seven-part series invites yoga teachers to deepen their understanding of the chakras by exploring the personal\, interpersonal\, and transpersonal aspects of this powerful system. Each workshop features a brief lecture\, guided practice\, and interactive Q&A on a designated chakra.
URL:https://www.yogaalliance.org/Get_Involved/COVID-19_Resources/Archived_COVID-19_Workshops_and_Events/CE_Workshop_Deepen_Your_Understanding_of_the_Chakras_Part_6#new_tab
CATEGORIES:Archived,CE Workshop,Philosophy,Yoga Teaching Skills
ATTACH;FMTTYPE=image/jpeg:https://yourya.org/wp-content/uploads/2020/07/08_Series_CE_Chakras6_1080x608_calendar.jpg
END:VEVENT
BEGIN:VEVENT
DTSTART;TZID=America/New_York:20200910T140000
DTEND;TZID=America/New_York:20200910T150000
DTSTAMP:20260422T125939
CREATED:20200910T180019Z
LAST-MODIFIED:20221013T184936Z
UID:10402-1599746400-1599750000@yourya.org
SUMMARY:CE Workshop | How to Read Traditional Yoga Wisdom Texts\, Part 1
DESCRIPTION:This four-part workshop offers a systematic approach to overcoming obstacles when reading traditional yoga literature. Participants will learn how to develop a deep and meaningful connection with the ancient teachings of yoga.
URL:https://www.yogaalliance.org/Get_Involved/COVID-19_Resources/Archived_COVID-19_Workshops_and_Events/CE_Workshop_How_to_Read_Traditional_Yoga_Wisdom_Part_1#new_tab
CATEGORIES:Archived,CE Workshop,Philosophy,Yoga Teaching Skills
ATTACH;FMTTYPE=image/jpeg:https://yourya.org/wp-content/uploads/2020/08/Hari-kirtana.jpg
END:VEVENT
BEGIN:VEVENT
DTSTART;TZID=America/New_York:20200916T130000
DTEND;TZID=America/New_York:20200916T140000
DTSTAMP:20260422T125939
CREATED:20200916T170057Z
LAST-MODIFIED:20221013T184702Z
UID:10135-1600261200-1600264800@yourya.org
SUMMARY:CE Workshop | Deepen Your Understanding of the Chakras\, Part 7
DESCRIPTION:This seven-part series invites yoga teachers to deepen their understanding of the chakras by exploring the personal\, interpersonal\, and transpersonal aspects of this powerful system. Each workshop features a brief lecture\, guided practice\, and interactive Q&A on a designated chakra.
URL:https://www.yogaalliance.org/Get_Involved/COVID-19_Resources/Archived_COVID-19_Workshops_and_Events/CE_Workshop_Deepen_Your_Understanding_of_the_Chakras_Part_7#new_tab
CATEGORIES:Archived,CE Workshop,Philosophy,Yoga Teaching Skills
ATTACH;FMTTYPE=image/jpeg:https://yourya.org/wp-content/uploads/2020/07/08_Series_CE_Chakras7_1080x608_calendar.jpg
END:VEVENT
BEGIN:VEVENT
DTSTART;TZID=America/New_York:20200917T120000
DTEND;TZID=America/New_York:20200917T130000
DTSTAMP:20260422T125939
CREATED:20200917T160006Z
LAST-MODIFIED:20221017T152657Z
UID:10410-1600344000-1600347600@yourya.org
SUMMARY:CE Workshop | Prop Shop
DESCRIPTION:Yoga props can make poses more accessible for every body\, and open up new ways for teachers to be creative with familiar movements. Grab two blocks (or block-alternatives)\, a couple blankets (or bath towels)\, and get ready for some prop play in this active workshop.
URL:https://www.yogaalliance.org/Get_Involved/COVID-19_Resources/Archived_COVID-19_Workshops_and_Events/CE_Workshop_Prop_Shop#new_tab
CATEGORIES:Archived,CE Workshop,Diversity, Equity & Inclusion,Yoga Teaching Skills
ATTACH;FMTTYPE=image/jpeg:https://yourya.org/wp-content/uploads/2020/08/09.17_CE_PropShop_1080x608_calendar.jpg
END:VEVENT
BEGIN:VEVENT
DTSTART;TZID=America/New_York:20200917T140000
DTEND;TZID=America/New_York:20200917T150000
DTSTAMP:20260422T125939
CREATED:20200917T180023Z
LAST-MODIFIED:20221013T183218Z
UID:10412-1600351200-1600354800@yourya.org
SUMMARY:CE Workshop | How to Read Traditional Yoga Wisdom Texts\, Part 2
DESCRIPTION:This four-part workshop offers a systematic approach to overcoming obstacles when reading traditional yoga literature. Participants will learn how to develop a deep and meaningful connection with the ancient teachings of yoga.
URL:https://www.yogaalliance.org/Get_Involved/COVID-19_Resources/Archived_COVID-19_Workshops_and_Events/CE_Workshop_How_to_Read_Traditional_Yoga_Wisdom_Texts_Part_2#new_tab
CATEGORIES:Archived,CE Workshop,Philosophy,Yoga Teaching Skills
ATTACH;FMTTYPE=image/jpeg:https://yourya.org/wp-content/uploads/2020/08/Hari-kirtana.jpg
END:VEVENT
BEGIN:VEVENT
DTSTART;TZID=America/New_York:20200921T160000
DTEND;TZID=America/New_York:20200921T170000
DTSTAMP:20260422T125939
CREATED:20200921T200041Z
LAST-MODIFIED:20221017T152236Z
UID:10418-1600704000-1600707600@yourya.org
SUMMARY:CE Workshop | Flossing and Stretch Sticks
DESCRIPTION:This workshop demonstrates how to incorporate simple one-inch rubber bands and two to five-foot PVC pipes as props in your yoga and wellness practice. These tools can help increase mobility\, clear impingement\, and serve as low-cost additions to your personal wellness toolbox.
URL:https://www.yogaalliance.org/Get_Involved/COVID-19_Resources/Archived_COVID-19_Workshops_and_Events/CE_Workshop_Flossing_and_Stretch_Sticks#new_tab
CATEGORIES:Anatomy,Archived,CE Workshop,Yoga Teaching Skills
ATTACH;FMTTYPE=image/jpeg:https://yourya.org/wp-content/uploads/2020/08/09.21_CE_Flossing_1080x608_calendar.jpg
END:VEVENT
BEGIN:VEVENT
DTSTART;TZID=America/New_York:20200924T140000
DTEND;TZID=America/New_York:20200924T150000
DTSTAMP:20260422T125939
CREATED:20200924T180013Z
LAST-MODIFIED:20221013T161759Z
UID:10422-1600956000-1600959600@yourya.org
SUMMARY:CE Workshop | How to Read Traditional Yoga Wisdom Texts\, Part 3
DESCRIPTION:This four-part workshop offers a systematic approach to overcoming obstacles when reading traditional yoga literature. Participants will learn how to develop a deep and meaningful connection with the ancient teachings of yoga.
URL:https://www.yogaalliance.org/Get_Involved/COVID-19_Resources/Archived_COVID-19_Workshops_and_Events/CE_Workshop_How_to_Read_Traditional_Yoga_Wisdom_Texts_Part_3#new_tab
CATEGORIES:Archived,CE Workshop,Philosophy,Yoga Teaching Skills
ATTACH;FMTTYPE=image/jpeg:https://yourya.org/wp-content/uploads/2020/08/Hari-kirtana.jpg
END:VEVENT
BEGIN:VEVENT
DTSTART;TZID=America/New_York:20200925T150000
DTEND;TZID=America/New_York:20200925T160000
DTSTAMP:20260422T125939
CREATED:20200925T090042Z
LAST-MODIFIED:20221017T152105Z
UID:10446-1601046000-1601049600@yourya.org
SUMMARY:CE Workshop | Teaching Yoga to Older Adults
DESCRIPTION:This workshop covers the common physical and emotional challenges many people experience in aging and what yoga can offer us through this experience. Learn about keeping your students safe through understanding changing bodies\, offering modifications\, and celebrating the wisdom found in aging.
URL:https://www.yogaalliance.org/Get_Involved/COVID-19_Resources/Archived_COVID-19_Workshops_and_Events/CE_Workshop_Teaching_Yoga_for_Older_Adults#new_tab
CATEGORIES:Archived,CE Workshop,Diversity, Equity & Inclusion,Yoga Teaching Skills
ATTACH;FMTTYPE=image/jpeg:https://yourya.org/wp-content/uploads/2020/08/09.25_CE_Older_1080x608_calendar.jpg
END:VEVENT
BEGIN:VEVENT
DTSTART;TZID=America/New_York:20200928T140000
DTEND;TZID=America/New_York:20200928T144500
DTSTAMP:20260422T125939
CREATED:20200928T180028Z
LAST-MODIFIED:20221017T151948Z
UID:10438-1601301600-1601304300@yourya.org
SUMMARY:Community Sangha | Yoga for Men of Color
DESCRIPTION:Learn how yoga can help recovery from the physiological and emotional harm of institutionalized racism. Presenter Sherri Doucette uses her personal experience and research from teaching contemplative practices primarily to Black and Latino men to discuss yoga as a self-healing tool for men of color.
URL:https://www.yogaalliance.org/Get_Involved/COVID-19_Resources/Archived_COVID-19_Workshops_and_Events/Community_Sangha_Yoga_for_Men_of_Color#new_tab
CATEGORIES:Archived,CE Workshop,Diversity, Equity & Inclusion,Yoga Teaching Skills
ATTACH;FMTTYPE=image/jpeg:https://yourya.org/wp-content/uploads/2020/08/09.28_CS_Men_1080x608_calendar.jpg
END:VEVENT
END:VCALENDAR