BEGIN:VCALENDAR
VERSION:2.0
PRODID:-//Your Yoga Alliance - ECPv5.14.1//NONSGML v1.0//EN
CALSCALE:GREGORIAN
METHOD:PUBLISH
X-WR-CALNAME:Your Yoga Alliance
X-ORIGINAL-URL:https://yourya.org
X-WR-CALDESC:Events for Your Yoga Alliance
REFRESH-INTERVAL;VALUE=DURATION:PT1H
X-Robots-Tag:noindex
X-PUBLISHED-TTL:PT1H
BEGIN:VTIMEZONE
TZID:America/New_York
BEGIN:DAYLIGHT
TZOFFSETFROM:-0500
TZOFFSETTO:-0400
TZNAME:EDT
DTSTART:20200308T070000
END:DAYLIGHT
BEGIN:STANDARD
TZOFFSETFROM:-0400
TZOFFSETTO:-0500
TZNAME:EST
DTSTART:20201101T060000
END:STANDARD
END:VTIMEZONE
BEGIN:VEVENT
DTSTART;TZID=America/New_York:20201001T140000
DTEND;TZID=America/New_York:20201001T150000
DTSTAMP:20260421T193818
CREATED:20201001T180057Z
LAST-MODIFIED:20221013T161641Z
UID:10789-1601560800-1601564400@yourya.org
SUMMARY:CE Workshop | How to Read Traditional Yoga Wisdom Texts\, Part 4
DESCRIPTION:This four-part workshop offers a systematic approach to overcoming obstacles when reading traditional yoga literature. Participants will learn how to develop a deep and meaningful connection with the ancient teachings of yoga.
URL:https://www.yogaalliance.org/Get_Involved/COVID-19_Resources/Archived_COVID-19_Workshops_and_Events/CE_Workshop_How_to_Read_Traditional_Yoga_Wisdom_Texts_Part_4#new_tab
CATEGORIES:Archived,CE Workshop,Philosophy,Yoga Teaching Skills
ATTACH;FMTTYPE=image/jpeg:https://yourya.org/wp-content/uploads/2020/08/Hari-kirtana.jpg
END:VEVENT
BEGIN:VEVENT
DTSTART;TZID=America/New_York:20201007T120000
DTEND;TZID=America/New_York:20201007T130000
DTSTAMP:20260421T193818
CREATED:20201007T160024Z
LAST-MODIFIED:20221017T151742Z
UID:10797-1602072000-1602075600@yourya.org
SUMMARY:CE Workshop | Cultivating a Yoga Learning Experience for the Youth
DESCRIPTION:Monique Schubert shares essential teaching tips from her years of experience in leading yoga and meditation programs for teens at NYC public schools\, detention centers\, and cultural institutions. Learn best practices for creating engaging programs for young people to build skills and resilience.
URL:https://www.yogaalliance.org/Get_Involved/COVID-19_Resources/Archived_COVID-19_Workshops_and_Events/CE_Workshop_Cultivating_a_Yoga_Learning_Experience_for_the_Youth#new_tab
CATEGORIES:Archived,CE Workshop,For New Teachers,Yoga Teaching Skills
ATTACH;FMTTYPE=image/jpeg:https://yourya.org/wp-content/uploads/2020/09/10.07_CE_Youth_1080x608_calendar.jpg
END:VEVENT
BEGIN:VEVENT
DTSTART;TZID=America/New_York:20201008T140000
DTEND;TZID=America/New_York:20201008T150000
DTSTAMP:20260421T193818
CREATED:20201008T180002Z
LAST-MODIFIED:20221017T151708Z
UID:10974-1602165600-1602169200@yourya.org
SUMMARY:CE Workshop | How to Teach Restorative Yoga Online
DESCRIPTION:Learn how to help your students create a restorative environment at home. Learn how to offer substitutions of non-traditional yoga props to make an at home restorative practice more accessible\, structure restorative shapes specifically for Autumn. For this workshop you will need 2 or 3 pillows (preferably “bed sized”)\, 2 or 3 bath towels\, 2 rolls of paper towel\, 2 books\, warm and comfy clothes\, yoga mat\, your favorite essential oil or scented candle (optional)\, 1 eye pillow or folded hand towel.
URL:https://www.yogaalliance.org/Get_Involved/COVID-19_Resources/Archived_COVID-19_Workshops_and_Events/CE_Workshop_How_to_Teach_Restorative_Yoga_Online#new_tab
CATEGORIES:Archived,CE Workshop,For New Teachers,Yoga Teaching Skills
ATTACH;FMTTYPE=image/jpeg:https://yourya.org/wp-content/uploads/2020/10/10.08_CE_Restorative_1080x608_calendar.jpg
END:VEVENT
BEGIN:VEVENT
DTSTART;TZID=America/New_York:20201009T120000
DTEND;TZID=America/New_York:20201009T133000
DTSTAMP:20260421T193818
CREATED:20201009T160018Z
LAST-MODIFIED:20221017T151620Z
UID:10799-1602244800-1602250200@yourya.org
SUMMARY:Master Class | How to Teach Your Best Live Zoom Yoga Class
DESCRIPTION:Many yoga students are using increased time at home to explore yoga classes online\, deepening their practice and expanding their yogic knowledge. Yoga teachers are poised to serve this new interest and capitalize on what Zoom has to offer to build excitement and retain students. Learn how!
URL:https://www.yogaalliance.org/Get_Involved/COVID-19_Resources/Archived_COVID-19_Workshops_and_Events/Master_Class_How_to_Teach_Your_Best_Live_Zoom_Yoga_Class#new_tab
CATEGORIES:Archived,COVID-19,Master Class,Yoga Teaching Skills
ATTACH;FMTTYPE=image/jpeg:https://yourya.org/wp-content/uploads/2020/09/10.09_MC_Zoom_1080x608_calendar.jpg
END:VEVENT
BEGIN:VEVENT
DTSTART;TZID=America/New_York:20201013T140000
DTEND;TZID=America/New_York:20201013T150000
DTSTAMP:20260421T193818
CREATED:20201013T180058Z
LAST-MODIFIED:20221013T161423Z
UID:10883-1602597600-1602601200@yourya.org
SUMMARY:CE Workshop | The Synthesis of Yoga and Ayurveda
DESCRIPTION:This workshop explores the relationship between yoga and Ayurveda. Often described as true sister sciences\, discover how neither science can exist in a silo and learn more about their healing relationship.
URL:https://www.yogaalliance.org/Get_Involved/COVID-19_Resources/Archived_COVID-19_Workshops_and_Events/CE_Workshop_The_Synthesis_of_Yoga_and_Ayurveda#new_tab
CATEGORIES:Archived,CE Workshop,Philosophy,Yoga Teaching Skills
ATTACH;FMTTYPE=image/jpeg:https://yourya.org/wp-content/uploads/2020/09/10.13_CE_YogaAyurveda_1080x608_calendar.jpg
END:VEVENT
BEGIN:VEVENT
DTSTART;TZID=America/New_York:20201014T160000
DTEND;TZID=America/New_York:20201014T170000
DTSTAMP:20260421T193818
CREATED:20201014T200058Z
LAST-MODIFIED:20221013T161403Z
UID:10805-1602691200-1602694800@yourya.org
SUMMARY:CE Workshop | Yoga as a Living Practice: Ahimsa
DESCRIPTION:Ahimsa\, often translated as non-harm\, is the first of the Yoga Sutras’ ethical principles. This workshop explores Ahimsa rooted in the influential texts of Patanjali’s Yoga Sutras and Dr. Martin Luther King’s Letter from a Birmingham Jail.
URL:https://www.yogaalliance.org/Get_Involved/COVID-19_Resources/Archived_COVID-19_Workshops_and_Events/CE_Workshop_Yoga_as_a_Living_Practice_Ahimsa#new_tab
CATEGORIES:Archived,CE Workshop,Philosophy,Yoga Teaching Skills
ATTACH;FMTTYPE=image/jpeg:https://yourya.org/wp-content/uploads/2020/09/10.14_CE_Ahimsa_1080x608_calendar-1.jpg
END:VEVENT
BEGIN:VEVENT
DTSTART;TZID=America/New_York:20201015T140000
DTEND;TZID=America/New_York:20201015T143000
DTSTAMP:20260421T193818
CREATED:20201015T180059Z
LAST-MODIFIED:20221013T161352Z
UID:10817-1602770400-1602772200@yourya.org
SUMMARY:CE Workshop | Mantra Meditation: Raise Your Vibration
DESCRIPTION:Mantra and meditation are fantastic tools to help navigate the inner landscapes of our minds\, hearts\, and spirit. This workshop looks at both by exploring each chakra’s meaning\, the Bija (seed) sounds from base to crown\, and how to apply them in your daily sadhana/teaching offerings.
URL:https://www.yogaalliance.org/Get_Involved/COVID-19_Resources/Archived_COVID-19_Workshops_and_Events/CE_Workshop_Mantra_Meditation_Raise_Your_Vibration#new_tab
CATEGORIES:Archived,CE Workshop,Yoga Teaching Skills
ATTACH;FMTTYPE=image/jpeg:https://yourya.org/wp-content/uploads/2020/09/10.15_CE_Mantra_1080x608_calendar-1.jpg
END:VEVENT
BEGIN:VEVENT
DTSTART;TZID=America/New_York:20201019T140000
DTEND;TZID=America/New_York:20201019T150000
DTSTAMP:20260421T193818
CREATED:20201019T180045Z
LAST-MODIFIED:20221013T161242Z
UID:10809-1603116000-1603119600@yourya.org
SUMMARY:CE Workshop | Finding Your Authentic Voice and Guiding a Practice with Safe Sequencing\, Part 2
DESCRIPTION:Once you have experienced and studied with an incredible teacher\, how do you guide a yoga practice being true to yourself? Do you sound exactly like your mentors? This event invites attendees to explore the natural self and harness their authentic teaching personalities and voices.
URL:https://www.yogaalliance.org/Get_Involved/COVID-19_Resources/Archived_COVID-19_Workshops_and_Events/CE_Workshop_Finding_Your_Authentic_Voice_and_Guiding_A_Practice_with_Safe_Sequencing_1019#new_tab
CATEGORIES:Archived,CE Workshop,Yoga Teaching Skills
ATTACH;FMTTYPE=image/jpeg:https://yourya.org/wp-content/uploads/2020/09/10.19_CE_Voice_1080x608_calendar.jpg
END:VEVENT
BEGIN:VEVENT
DTSTART;TZID=America/New_York:20201028T160000
DTEND;TZID=America/New_York:20201028T170000
DTSTAMP:20260421T193818
CREATED:20201028T200056Z
LAST-MODIFIED:20221013T161011Z
UID:10991-1603900800-1603904400@yourya.org
SUMMARY:CE Workshop | Yoga and the Cardiovascular System
DESCRIPTION:Listen as Emma Fitzgerald shares her rare cardiovascular condition survival story as well as her vast anatomical knowledge about the function of the cardiovascular system and how yoga helps to manage and improve cardiovascular health.
URL:https://www.yogaalliance.org/Get_Involved/COVID-19_Resources/Archived_COVID-19_Workshops_and_Events/CE_Workshop_Yoga_and_the_Cardiovascular_System#new_tab
CATEGORIES:Archived,CE Workshop,Yoga Teaching Skills
ATTACH;FMTTYPE=image/jpeg:https://yourya.org/wp-content/uploads/2020/10/10.28_CE_Cardio_1080x608_calendar-1.jpg
END:VEVENT
END:VCALENDAR