BEGIN:VCALENDAR
VERSION:2.0
PRODID:-//Your Yoga Alliance - ECPv5.14.1//NONSGML v1.0//EN
CALSCALE:GREGORIAN
METHOD:PUBLISH
X-WR-CALNAME:Your Yoga Alliance
X-ORIGINAL-URL:https://yourya.org
X-WR-CALDESC:Events for Your Yoga Alliance
REFRESH-INTERVAL;VALUE=DURATION:PT1H
X-Robots-Tag:noindex
X-PUBLISHED-TTL:PT1H
BEGIN:VTIMEZONE
TZID:America/New_York
BEGIN:DAYLIGHT
TZOFFSETFROM:-0500
TZOFFSETTO:-0400
TZNAME:EDT
DTSTART:20220313T070000
END:DAYLIGHT
BEGIN:STANDARD
TZOFFSETFROM:-0400
TZOFFSETTO:-0500
TZNAME:EST
DTSTART:20221106T060000
END:STANDARD
END:VTIMEZONE
BEGIN:VEVENT
DTSTART;TZID=America/New_York:20220907T180000
DTEND;TZID=America/New_York:20220907T190000
DTSTAMP:20260421T200107
CREATED:20220907T194815Z
LAST-MODIFIED:20221013T133257Z
UID:14943-1662573600-1662577200@yourya.org
SUMMARY:Taller de CE | 7 claves para hacer a tus clases más seguras
DESCRIPTION:Con ejemplos ilustrativos\, este taller te mostrará como con pequeños cambios en la forma que describimos las posturas\, podemos generar un ambiente más inclusivo y seguro para nuestros alumnos (en cuerpo y mente!). Además\, te ofreceremos ejercicios para que puedas crecer por tu cuenta\, porque toma práctica generar nuevos hábitos de enseñanza.\n \nAprende cómo puedes ayudar a tus alumnos a :\n \n· Reducir el riesgo de lesiones con un lenguaje más preciso\n· Evitar disparar traumas usando instrucciones más conscientes e intencionales\n· Generar una cultura incluyente y segura
URL:https://www.yogaalliance.org/Events/Watch_Past_Events/Taller_de_CE_7_claves_para_hacer_a_tus_clases_m%C3%A1s_seguras#new_tab
CATEGORIES:Archived,CE Workshop,Español,Yoga Teaching Skills
ATTACH;FMTTYPE=image/png:https://yourya.org/wp-content/uploads/2022/09/7-claves-para-hacer-a-tus-clases-más-seguras.png
END:VEVENT
BEGIN:VEVENT
DTSTART;TZID=America/New_York:20220913T140000
DTEND;TZID=America/New_York:20220913T150000
DTSTAMP:20260421T200107
CREATED:20220913T184624Z
LAST-MODIFIED:20221013T133228Z
UID:14954-1663077600-1663081200@yourya.org
SUMMARY:CE Workshop | Understand the Vagus Nerve and How It Can Affect Asana Practice
DESCRIPTION:While our body rests\, our parasympathetic nervous system is responsible for things like our heartbeat\, breath\, digestion\, and other bodily functions that we do unconsciously. The vagus nerve is the longest nerve of the autonomic nervous system\, and carries signals from these organs to the brain and back.﻿ It also helps counterbalance the effects of stress on the body. In this workshop\, you will learn about:\n \n· The functions of the vagus nerve\n· Polyvagal theory\n· Yoga practices that can support the tone and function of this important aspect of our physiology
URL:https://www.yogaalliance.org/Events/Watch_Past_Events/CE_Workshop_Understand_the_Vagus_Nerve_and_How_It_Can_Affect_Asana_Practice#new_tab
CATEGORIES:Anatomy,Archived,CE Workshop,Yoga Teaching Skills
ATTACH;FMTTYPE=image/png:https://yourya.org/wp-content/uploads/2022/09/Understand-the-Vagus-Nerve-and-How-It-Can-Affect-Asana-Practice.png
END:VEVENT
END:VCALENDAR