BEGIN:VCALENDAR
VERSION:2.0
PRODID:-//Your Yoga Alliance - ECPv5.14.1//NONSGML v1.0//EN
CALSCALE:GREGORIAN
METHOD:PUBLISH
X-WR-CALNAME:Your Yoga Alliance
X-ORIGINAL-URL:https://yourya.org
X-WR-CALDESC:Events for Your Yoga Alliance
REFRESH-INTERVAL;VALUE=DURATION:PT1H
X-Robots-Tag:noindex
X-PUBLISHED-TTL:PT1H
BEGIN:VTIMEZONE
TZID:America/New_York
BEGIN:DAYLIGHT
TZOFFSETFROM:-0500
TZOFFSETTO:-0400
TZNAME:EDT
DTSTART:20200308T070000
END:DAYLIGHT
BEGIN:STANDARD
TZOFFSETFROM:-0400
TZOFFSETTO:-0500
TZNAME:EST
DTSTART:20201101T060000
END:STANDARD
END:VTIMEZONE
BEGIN:VEVENT
DTSTART;TZID=America/New_York:20200604T140000
DTEND;TZID=America/New_York:20200604T150000
DTSTAMP:20260425T191750
CREATED:20200604T180010Z
LAST-MODIFIED:20221013T192901Z
UID:9066-1591279200-1591282800@yourya.org
SUMMARY:CE Workshop | Bringing Trauma-Sensitive Principles to Online Yoga Instruction
DESCRIPTION:Many yoga students are facing amplified trauma responses and triggers during the pandemic. As many yoga professionals have shifted their teaching and training online\, it is important to create safe virtual spaces by offering choice\, sharing power\, and remaining predictable. This workshop explores ways to adapt online yoga instruction in a responsive way.
URL:https://www.yogaalliance.org/Get_Involved/COVID-19_Resources/Archived_COVID-19_Workshops_and_Events/CE_Workshop_Bringing_Trauma-Sensitive_Principles_to_Online_Yoga_Instruction_Part_1
CATEGORIES:Archived,CE Workshop,COVID-19,Yoga Teaching Skills
ATTACH;FMTTYPE=image/jpeg:https://yourya.org/wp-content/uploads/2020/05/Calendar_Trauma_Sensitivity_6.04-1.jpg
END:VEVENT
END:VCALENDAR