BEGIN:VCALENDAR
VERSION:2.0
PRODID:-//Your Yoga Alliance - ECPv5.14.1//NONSGML v1.0//EN
CALSCALE:GREGORIAN
METHOD:PUBLISH
X-WR-CALNAME:Your Yoga Alliance
X-ORIGINAL-URL:https://yourya.org
X-WR-CALDESC:Events for Your Yoga Alliance
REFRESH-INTERVAL;VALUE=DURATION:PT1H
X-Robots-Tag:noindex
X-PUBLISHED-TTL:PT1H
BEGIN:VTIMEZONE
TZID:America/New_York
BEGIN:DAYLIGHT
TZOFFSETFROM:-0500
TZOFFSETTO:-0400
TZNAME:EDT
DTSTART:20200308T070000
END:DAYLIGHT
BEGIN:STANDARD
TZOFFSETFROM:-0400
TZOFFSETTO:-0500
TZNAME:EST
DTSTART:20201101T060000
END:STANDARD
END:VTIMEZONE
BEGIN:VEVENT
DTSTART;TZID=America/New_York:20200625T140000
DTEND;TZID=America/New_York:20200625T150000
DTSTAMP:20260424T154927
CREATED:20200625T180042Z
LAST-MODIFIED:20221013T191526Z
UID:9471-1593093600-1593097200@yourya.org
SUMMARY:CE Workshop | Applying Anatomy for Movement Educators
DESCRIPTION:Review the basic anatomical principles of how bodies move and function. This workshop will focus heavily on understanding the structural and functional variations of the body\, why biomechanics matters\, and how to look for and integrate these things into your teaching with practice.
URL:https://www.yogaalliance.org/Get_Involved/COVID-19_Resources/Archived_COVID-19_Workshops_and_Events/CE_Workshop_Applying_Anatomy_for_Movement_Educators
CATEGORIES:Anatomy,Archived,CE Workshop,Yoga Teaching Skills
ATTACH;FMTTYPE=image/jpeg:https://yourya.org/wp-content/uploads/2020/06/Calender_Anatomy_6.25.jpg
END:VEVENT
END:VCALENDAR