BEGIN:VCALENDAR
VERSION:2.0
PRODID:-//Your Yoga Alliance - ECPv5.14.1//NONSGML v1.0//EN
CALSCALE:GREGORIAN
METHOD:PUBLISH
X-WR-CALNAME:Your Yoga Alliance
X-ORIGINAL-URL:https://yourya.org
X-WR-CALDESC:Events for Your Yoga Alliance
REFRESH-INTERVAL;VALUE=DURATION:PT1H
X-Robots-Tag:noindex
X-PUBLISHED-TTL:PT1H
BEGIN:VTIMEZONE
TZID:America/New_York
BEGIN:DAYLIGHT
TZOFFSETFROM:-0500
TZOFFSETTO:-0400
TZNAME:EDT
DTSTART:20200308T070000
END:DAYLIGHT
BEGIN:STANDARD
TZOFFSETFROM:-0400
TZOFFSETTO:-0500
TZNAME:EST
DTSTART:20201101T060000
END:STANDARD
END:VTIMEZONE
BEGIN:VEVENT
DTSTART;TZID=America/New_York:20200720T140000
DTEND;TZID=America/New_York:20200720T143000
DTSTAMP:20260423T183020
CREATED:20200720T180008Z
LAST-MODIFIED:20221013T190018Z
UID:9710-1595253600-1595255400@yourya.org
SUMMARY:Community Sangha | Reconciliation and Social Justice from an Indigenous Perspective
DESCRIPTION:This sangha offers a transformative process of building communities to wholeness. Participants will develop a greater capacity for empathy in providing healing for both those who are harmed and those who cause harm.
URL:https://www.yogaalliance.org/Get_Involved/COVID-19_Resources/Archived_COVID-19_Workshops_and_Events/Community_Sangha_Reconciliation_and_Social_Justice_from_an_Indigenous_Perspective
CATEGORIES:Archived,Community Events,Diversity, Equity & Inclusion,Yoga Teaching Skills
ATTACH;FMTTYPE=image/jpeg:https://yourya.org/wp-content/uploads/2020/07/Calendar_Reconciliation.jpg
END:VEVENT
END:VCALENDAR