BEGIN:VCALENDAR
VERSION:2.0
PRODID:-//Your Yoga Alliance - ECPv5.14.1//NONSGML v1.0//EN
CALSCALE:GREGORIAN
METHOD:PUBLISH
X-WR-CALNAME:Your Yoga Alliance
X-ORIGINAL-URL:https://yourya.org
X-WR-CALDESC:Events for Your Yoga Alliance
REFRESH-INTERVAL;VALUE=DURATION:PT1H
X-Robots-Tag:noindex
X-PUBLISHED-TTL:PT1H
BEGIN:VTIMEZONE
TZID:America/New_York
BEGIN:DAYLIGHT
TZOFFSETFROM:-0500
TZOFFSETTO:-0400
TZNAME:EDT
DTSTART:20200308T070000
END:DAYLIGHT
BEGIN:STANDARD
TZOFFSETFROM:-0400
TZOFFSETTO:-0500
TZNAME:EST
DTSTART:20201101T060000
END:STANDARD
END:VTIMEZONE
BEGIN:VEVENT
DTSTART;TZID=America/New_York:20200728T140000
DTEND;TZID=America/New_York:20200728T150000
DTSTAMP:20260423T220707
CREATED:20200728T180035Z
LAST-MODIFIED:20221013T185904Z
UID:9757-1595944800-1595948400@yourya.org
SUMMARY:CE Workshop | The Shoulder Breakdown: Understand and Apply Scapular Mechanics in Yoga
DESCRIPTION:Expand your knowledge and kinesthetic awareness of shoulder mechanics in yoga asana practice and learn to clearly articulate cues to help students access the kinesthetic experience in their bodies. This workshop also breaks down functional anatomy in weight-bearing and non-weight-bearing asanas.
URL:https://www.yogaalliance.org/Get_Involved/COVID-19_Resources/Archived_COVID-19_Workshops_and_Events/CE_Workshop_The_Shoulder_Breakdown_Understand_and_Apply_Scapular_Mechanics_in_Yoga
CATEGORIES:Anatomy,Archived,CE Workshop,Yoga Teaching Skills
ATTACH;FMTTYPE=image/jpeg:https://yourya.org/wp-content/uploads/2020/07/07.28_CE_Shoulder_1080x608_calendar.jpg
END:VEVENT
END:VCALENDAR