BEGIN:VCALENDAR
VERSION:2.0
PRODID:-//Your Yoga Alliance - ECPv5.14.1//NONSGML v1.0//EN
CALSCALE:GREGORIAN
METHOD:PUBLISH
X-WR-CALNAME:Your Yoga Alliance
X-ORIGINAL-URL:https://yourya.org
X-WR-CALDESC:Events for Your Yoga Alliance
REFRESH-INTERVAL;VALUE=DURATION:PT1H
X-Robots-Tag:noindex
X-PUBLISHED-TTL:PT1H
BEGIN:VTIMEZONE
TZID:America/New_York
BEGIN:DAYLIGHT
TZOFFSETFROM:-0500
TZOFFSETTO:-0400
TZNAME:EDT
DTSTART:20200308T070000
END:DAYLIGHT
BEGIN:STANDARD
TZOFFSETFROM:-0400
TZOFFSETTO:-0500
TZNAME:EST
DTSTART:20201101T060000
END:STANDARD
END:VTIMEZONE
BEGIN:VEVENT
DTSTART;TZID=America/New_York:20200921T160000
DTEND;TZID=America/New_York:20200921T170000
DTSTAMP:20260422T194108
CREATED:20200921T200041Z
LAST-MODIFIED:20221017T152236Z
UID:10418-1600704000-1600707600@yourya.org
SUMMARY:CE Workshop | Flossing and Stretch Sticks
DESCRIPTION:This workshop demonstrates how to incorporate simple one-inch rubber bands and two to five-foot PVC pipes as props in your yoga and wellness practice. These tools can help increase mobility\, clear impingement\, and serve as low-cost additions to your personal wellness toolbox.
URL:https://www.yogaalliance.org/Get_Involved/COVID-19_Resources/Archived_COVID-19_Workshops_and_Events/CE_Workshop_Flossing_and_Stretch_Sticks#new_tab
CATEGORIES:Anatomy,Archived,CE Workshop,Yoga Teaching Skills
ATTACH;FMTTYPE=image/jpeg:https://yourya.org/wp-content/uploads/2020/08/09.21_CE_Flossing_1080x608_calendar.jpg
END:VEVENT
END:VCALENDAR