BEGIN:VCALENDAR
VERSION:2.0
PRODID:-//Your Yoga Alliance - ECPv5.14.1//NONSGML v1.0//EN
CALSCALE:GREGORIAN
METHOD:PUBLISH
X-WR-CALNAME:Your Yoga Alliance
X-ORIGINAL-URL:https://yourya.org
X-WR-CALDESC:Events for Your Yoga Alliance
REFRESH-INTERVAL;VALUE=DURATION:PT1H
X-Robots-Tag:noindex
X-PUBLISHED-TTL:PT1H
BEGIN:VTIMEZONE
TZID:America/New_York
BEGIN:DAYLIGHT
TZOFFSETFROM:-0500
TZOFFSETTO:-0400
TZNAME:EDT
DTSTART:20200308T070000
END:DAYLIGHT
BEGIN:STANDARD
TZOFFSETFROM:-0400
TZOFFSETTO:-0500
TZNAME:EST
DTSTART:20201101T060000
END:STANDARD
END:VTIMEZONE
BEGIN:VEVENT
DTSTART;TZID=America/New_York:20200925T150000
DTEND;TZID=America/New_York:20200925T160000
DTSTAMP:20260422T212047
CREATED:20200925T090042Z
LAST-MODIFIED:20221017T152105Z
UID:10446-1601046000-1601049600@yourya.org
SUMMARY:CE Workshop | Teaching Yoga to Older Adults
DESCRIPTION:This workshop covers the common physical and emotional challenges many people experience in aging and what yoga can offer us through this experience. Learn about keeping your students safe through understanding changing bodies\, offering modifications\, and celebrating the wisdom found in aging.
URL:https://www.yogaalliance.org/Get_Involved/COVID-19_Resources/Archived_COVID-19_Workshops_and_Events/CE_Workshop_Teaching_Yoga_for_Older_Adults#new_tab
CATEGORIES:Archived,CE Workshop,Diversity, Equity & Inclusion,Yoga Teaching Skills
ATTACH;FMTTYPE=image/jpeg:https://yourya.org/wp-content/uploads/2020/08/09.25_CE_Older_1080x608_calendar.jpg
END:VEVENT
END:VCALENDAR