BEGIN:VCALENDAR
VERSION:2.0
PRODID:-//Your Yoga Alliance - ECPv5.14.1//NONSGML v1.0//EN
CALSCALE:GREGORIAN
METHOD:PUBLISH
X-WR-CALNAME:Your Yoga Alliance
X-ORIGINAL-URL:https://yourya.org
X-WR-CALDESC:Events for Your Yoga Alliance
REFRESH-INTERVAL;VALUE=DURATION:PT1H
X-Robots-Tag:noindex
X-PUBLISHED-TTL:PT1H
BEGIN:VTIMEZONE
TZID:America/New_York
BEGIN:DAYLIGHT
TZOFFSETFROM:-0500
TZOFFSETTO:-0400
TZNAME:EDT
DTSTART:20200308T070000
END:DAYLIGHT
BEGIN:STANDARD
TZOFFSETFROM:-0400
TZOFFSETTO:-0500
TZNAME:EST
DTSTART:20201101T060000
END:STANDARD
END:VTIMEZONE
BEGIN:VEVENT
DTSTART;TZID=America/New_York:20201008T140000
DTEND;TZID=America/New_York:20201008T150000
DTSTAMP:20260422T103958
CREATED:20201008T180002Z
LAST-MODIFIED:20221017T151708Z
UID:10974-1602165600-1602169200@yourya.org
SUMMARY:CE Workshop | How to Teach Restorative Yoga Online
DESCRIPTION:Learn how to help your students create a restorative environment at home. Learn how to offer substitutions of non-traditional yoga props to make an at home restorative practice more accessible\, structure restorative shapes specifically for Autumn. For this workshop you will need 2 or 3 pillows (preferably “bed sized”)\, 2 or 3 bath towels\, 2 rolls of paper towel\, 2 books\, warm and comfy clothes\, yoga mat\, your favorite essential oil or scented candle (optional)\, 1 eye pillow or folded hand towel.
URL:https://www.yogaalliance.org/Get_Involved/COVID-19_Resources/Archived_COVID-19_Workshops_and_Events/CE_Workshop_How_to_Teach_Restorative_Yoga_Online#new_tab
CATEGORIES:Archived,CE Workshop,For New Teachers,Yoga Teaching Skills
ATTACH;FMTTYPE=image/jpeg:https://yourya.org/wp-content/uploads/2020/10/10.08_CE_Restorative_1080x608_calendar.jpg
END:VEVENT
END:VCALENDAR