BEGIN:VCALENDAR
VERSION:2.0
PRODID:-//Your Yoga Alliance - ECPv5.14.1//NONSGML v1.0//EN
CALSCALE:GREGORIAN
METHOD:PUBLISH
X-WR-CALNAME:Your Yoga Alliance
X-ORIGINAL-URL:https://yourya.org
X-WR-CALDESC:Events for Your Yoga Alliance
REFRESH-INTERVAL;VALUE=DURATION:PT1H
X-Robots-Tag:noindex
X-PUBLISHED-TTL:PT1H
BEGIN:VTIMEZONE
TZID:America/New_York
BEGIN:DAYLIGHT
TZOFFSETFROM:-0500
TZOFFSETTO:-0400
TZNAME:EDT
DTSTART:20200308T070000
END:DAYLIGHT
BEGIN:STANDARD
TZOFFSETFROM:-0400
TZOFFSETTO:-0500
TZNAME:EST
DTSTART:20201101T060000
END:STANDARD
END:VTIMEZONE
BEGIN:VEVENT
DTSTART;TZID=America/New_York:20201028T160000
DTEND;TZID=America/New_York:20201028T170000
DTSTAMP:20260424T010528
CREATED:20201028T200056Z
LAST-MODIFIED:20221013T161011Z
UID:10991-1603900800-1603904400@yourya.org
SUMMARY:CE Workshop | Yoga and the Cardiovascular System
DESCRIPTION:Listen as Emma Fitzgerald shares her rare cardiovascular condition survival story as well as her vast anatomical knowledge about the function of the cardiovascular system and how yoga helps to manage and improve cardiovascular health.
URL:https://www.yogaalliance.org/Get_Involved/COVID-19_Resources/Archived_COVID-19_Workshops_and_Events/CE_Workshop_Yoga_and_the_Cardiovascular_System#new_tab
CATEGORIES:Archived,CE Workshop,Yoga Teaching Skills
ATTACH;FMTTYPE=image/jpeg:https://yourya.org/wp-content/uploads/2020/10/10.28_CE_Cardio_1080x608_calendar-1.jpg
END:VEVENT
END:VCALENDAR