BEGIN:VCALENDAR
VERSION:2.0
PRODID:-//Your Yoga Alliance - ECPv5.14.1//NONSGML v1.0//EN
CALSCALE:GREGORIAN
METHOD:PUBLISH
X-WR-CALNAME:Your Yoga Alliance
X-ORIGINAL-URL:https://yourya.org
X-WR-CALDESC:Events for Your Yoga Alliance
REFRESH-INTERVAL;VALUE=DURATION:PT1H
X-Robots-Tag:noindex
X-PUBLISHED-TTL:PT1H
BEGIN:VTIMEZONE
TZID:America/New_York
BEGIN:DAYLIGHT
TZOFFSETFROM:-0500
TZOFFSETTO:-0400
TZNAME:EDT
DTSTART:20200308T070000
END:DAYLIGHT
BEGIN:STANDARD
TZOFFSETFROM:-0400
TZOFFSETTO:-0500
TZNAME:EST
DTSTART:20201101T060000
END:STANDARD
END:VTIMEZONE
BEGIN:VEVENT
DTSTART;TZID=America/New_York:20201106T120000
DTEND;TZID=America/New_York:20201106T133000
DTSTAMP:20260421T160034
CREATED:20201106T170006Z
LAST-MODIFIED:20221013T160905Z
UID:11362-1604664000-1604669400@yourya.org
SUMMARY:Master Class | Anchor into Your Steady Center for Lasting Resilience and Inspiration
DESCRIPTION:Postural practice meets timeless wisdom in this Master Class. The steady center that can anchor us amidst the ups and downs of life is at the heart of yoga tradition. Learn why this center is so significant right now and how to harness its power to support you and your students.
URL:https://www.yogaalliance.org/Get_Involved/COVID-19_Resources/Archived_COVID-19_Workshops_and_Events/Master_Class_Anchor_into_Your_Steady_Center_for_Lasting_Resilience_and_Inspiration#new_tab
CATEGORIES:Archived,Master Class,Philosophy,Yoga Teaching Skills
ATTACH;FMTTYPE=image/jpeg:https://yourya.org/wp-content/uploads/2020/10/11.06_MC_BR_1080x608_calendar.jpg
END:VEVENT
END:VCALENDAR