BEGIN:VCALENDAR
VERSION:2.0
PRODID:-//Your Yoga Alliance - ECPv5.14.1//NONSGML v1.0//EN
CALSCALE:GREGORIAN
METHOD:PUBLISH
X-WR-CALNAME:Your Yoga Alliance
X-ORIGINAL-URL:https://yourya.org
X-WR-CALDESC:Events for Your Yoga Alliance
REFRESH-INTERVAL;VALUE=DURATION:PT1H
X-Robots-Tag:noindex
X-PUBLISHED-TTL:PT1H
BEGIN:VTIMEZONE
TZID:America/New_York
BEGIN:DAYLIGHT
TZOFFSETFROM:-0500
TZOFFSETTO:-0400
TZNAME:EDT
DTSTART:20200308T070000
END:DAYLIGHT
BEGIN:STANDARD
TZOFFSETFROM:-0400
TZOFFSETTO:-0500
TZNAME:EST
DTSTART:20201101T060000
END:STANDARD
END:VTIMEZONE
BEGIN:VEVENT
DTSTART;TZID=America/New_York:20201116T120000
DTEND;TZID=America/New_York:20201116T130000
DTSTAMP:20260423T151114
CREATED:20201116T203043Z
LAST-MODIFIED:20221013T160258Z
UID:11619-1605528000-1605531600@yourya.org
SUMMARY:CE Workshop | Meeting of the Minds: Successful Online Teacher Training
DESCRIPTION:A diverse roundtable of panelists discusses how to bring yoga teacher trainings online. Listen in as thought leaders share their insight and knowledge on how yoga schools and studios can build and sustain a working business model for teacher training programs in digital spaces.
URL:https://www.yogaalliance.org/Get_Involved/COVID-19_Resources/Archived_COVID-19_Workshops_and_Events/CE_Workshop_Meeting_of_the_Minds_Successful_Online_Teacher_Trainings#new_tab
CATEGORIES:Archived,CE Workshop,Yoga Teaching Skills
ATTACH;FMTTYPE=image/jpeg:https://yourya.org/wp-content/uploads/2020/11/11.16_CE_Minds_1080x608_calendar.jpg
END:VEVENT
END:VCALENDAR