BEGIN:VCALENDAR
VERSION:2.0
PRODID:-//Your Yoga Alliance - ECPv5.14.1//NONSGML v1.0//EN
CALSCALE:GREGORIAN
METHOD:PUBLISH
X-WR-CALNAME:Your Yoga Alliance
X-ORIGINAL-URL:https://yourya.org
X-WR-CALDESC:Events for Your Yoga Alliance
REFRESH-INTERVAL;VALUE=DURATION:PT1H
X-Robots-Tag:noindex
X-PUBLISHED-TTL:PT1H
BEGIN:VTIMEZONE
TZID:America/New_York
BEGIN:DAYLIGHT
TZOFFSETFROM:-0500
TZOFFSETTO:-0400
TZNAME:EDT
DTSTART:20200308T070000
END:DAYLIGHT
BEGIN:STANDARD
TZOFFSETFROM:-0400
TZOFFSETTO:-0500
TZNAME:EST
DTSTART:20201101T060000
END:STANDARD
END:VTIMEZONE
BEGIN:VEVENT
DTSTART;TZID=America/New_York:20201201T100000
DTEND;TZID=America/New_York:20201201T110000
DTSTAMP:20260423T211140
CREATED:20201201T183612Z
LAST-MODIFIED:20221013T155715Z
UID:11588-1606816800-1606820400@yourya.org
SUMMARY:CE Workshop | Techniques\, Training\, and Practice for BIPOC
DESCRIPTION:This series brings awareness to yoga and communities of color. Week one’s discussion explores what brought prominent women to the practice\, how the eight limbs of Ashtanga impacts their lives\, and suggestions for BIPOC (Black\, Indigenous\, People Of Color) beginning a personal practice.
URL:https://www.yogaalliance.org/Get_Involved/COVID-19_Resources/Archived_COVID-19_Workshops_and_Events/CE_Workshop_Techniques_Training_and_Practice_for_BIPOC#new_tab
CATEGORIES:Archived,CE Workshop,Yoga Teaching Skills
ATTACH;FMTTYPE=image/jpeg:https://yourya.org/wp-content/uploads/2020/11/12.01_CE_BIPOC_1080x608_calendar.jpg
END:VEVENT
END:VCALENDAR