BEGIN:VCALENDAR
VERSION:2.0
PRODID:-//Your Yoga Alliance - ECPv5.14.1//NONSGML v1.0//EN
CALSCALE:GREGORIAN
METHOD:PUBLISH
X-WR-CALNAME:Your Yoga Alliance
X-ORIGINAL-URL:https://yourya.org
X-WR-CALDESC:Events for Your Yoga Alliance
REFRESH-INTERVAL;VALUE=DURATION:PT1H
X-Robots-Tag:noindex
X-PUBLISHED-TTL:PT1H
BEGIN:VTIMEZONE
TZID:America/New_York
BEGIN:DAYLIGHT
TZOFFSETFROM:-0500
TZOFFSETTO:-0400
TZNAME:EDT
DTSTART:20220313T070000
END:DAYLIGHT
BEGIN:STANDARD
TZOFFSETFROM:-0400
TZOFFSETTO:-0500
TZNAME:EST
DTSTART:20221106T060000
END:STANDARD
END:VTIMEZONE
BEGIN:VEVENT
DTSTART;TZID=America/New_York:20221019T140000
DTEND;TZID=America/New_York:20221019T150000
DTSTAMP:20260422T003936
CREATED:20221019T180035Z
LAST-MODIFIED:20221028T185006Z
UID:15106-1666188000-1666191600@yourya.org
SUMMARY:CE Workshop | Yoga for Grief
DESCRIPTION:Grief is a natural emotion that needs to run its course\, and as a teacher you can use yoga to provide support to your students who are grieving. In this session\, you’ll learn five different ways to help these students\, both in group classes and in one-on-one sessions. We’ll discuss topics like:\n\n· How to hold space for grief\n· Ways to help reduce stress associated with grief\n· Addressing the fatigue grief can cause\n· Providing a “yoga break” for times when grief is overwhelming\n· Helping students “move though” grief through gentle movements that can release held emotions\n\nThis session will include discussion\, practice\, and time for Q&A.
URL:https://www.yogaalliance.org/Events/Watch_Past_Events/CE_Workshop_Yoga_for_Grief#new_tab
CATEGORIES:Archived,CE Workshop,Yoga Teaching Skills
ATTACH;FMTTYPE=image/png:https://yourya.org/wp-content/uploads/2022/10/Yoga-for-Grief-1.png
END:VEVENT
END:VCALENDAR