BEGIN:VCALENDAR
VERSION:2.0
PRODID:-//Your Yoga Alliance - ECPv5.14.1//NONSGML v1.0//EN
CALSCALE:GREGORIAN
METHOD:PUBLISH
X-WR-CALNAME:Your Yoga Alliance
X-ORIGINAL-URL:https://yourya.org
X-WR-CALDESC:Events for Your Yoga Alliance
REFRESH-INTERVAL;VALUE=DURATION:PT1H
X-Robots-Tag:noindex
X-PUBLISHED-TTL:PT1H
BEGIN:VTIMEZONE
TZID:America/New_York
BEGIN:DAYLIGHT
TZOFFSETFROM:-0500
TZOFFSETTO:-0400
TZNAME:EDT
DTSTART:20220313T070000
END:DAYLIGHT
BEGIN:STANDARD
TZOFFSETFROM:-0400
TZOFFSETTO:-0500
TZNAME:EST
DTSTART:20221106T060000
END:STANDARD
END:VTIMEZONE
BEGIN:VEVENT
DTSTART;TZID=America/New_York:20221115T120000
DTEND;TZID=America/New_York:20221115T131500
DTSTAMP:20260421T055356
CREATED:20221115T170051Z
LAST-MODIFIED:20221116T202056Z
UID:15476-1668513600-1668518100@yourya.org
SUMMARY:CE Workshop | Sequencing for Success
DESCRIPTION:Yoga is an incredible tool for helping practitioners improve their lives; however\, as teachers we may find it challenging to consistently create focused\, asana-based sequences that provide students with the particular benefits they seek. Join Hayley Winter for a 75-minute workshop on sequencing that is based in theory and includes practical practice. You will learn:\n \n· How to identify the benefit of a yoga pose that speaks to what your students seek\n· How to utilize this knowledge to inform your yoga sequence designs\n· How to deconstruct asana to create sequences that help your students receive the benefit
URL:https://www.yogaalliance.org/Events/Watch_Past_Events/CE_Workshop_Sequencing_for_Success#new_tab
CATEGORIES:Archived,CE Workshop,Yoga Teaching Skills
ATTACH;FMTTYPE=image/png:https://yourya.org/wp-content/uploads/2022/11/Sequencing-for-SuccessTW.png
END:VEVENT
END:VCALENDAR