BEGIN:VCALENDAR
VERSION:2.0
PRODID:-//Your Yoga Alliance - ECPv5.14.1//NONSGML v1.0//EN
CALSCALE:GREGORIAN
METHOD:PUBLISH
X-WR-CALNAME:Your Yoga Alliance
X-ORIGINAL-URL:https://yourya.org
X-WR-CALDESC:Events for Your Yoga Alliance
REFRESH-INTERVAL;VALUE=DURATION:PT1H
X-Robots-Tag:noindex
X-PUBLISHED-TTL:PT1H
BEGIN:VTIMEZONE
TZID:America/New_York
BEGIN:DAYLIGHT
TZOFFSETFROM:-0500
TZOFFSETTO:-0400
TZNAME:EDT
DTSTART:20210314T070000
END:DAYLIGHT
BEGIN:STANDARD
TZOFFSETFROM:-0400
TZOFFSETTO:-0500
TZNAME:EST
DTSTART:20211107T060000
END:STANDARD
END:VTIMEZONE
BEGIN:VEVENT
DTSTART;TZID=America/New_York:20210119T130000
DTEND;TZID=America/New_York:20210119T140000
DTSTAMP:20260421T160404
CREATED:20210119T201855Z
LAST-MODIFIED:20221013T154407Z
UID:12312-1611061200-1611064800@yourya.org
SUMMARY:CE Workshop | Adjusting Yogic Practices for Persons with Traumatic Brain Injury: Restorative Asana\, Part 3
DESCRIPTION:Research has shown that Traumatic Brain Injury (TBI) and concussion rehabilitation is supported by yoga. Our third session covers how to adjust a more restorative practice for folks who may be chair or floor bound.
URL:https://www.yogaalliance.org/Get_Involved/COVID-19_Resources/Archived_COVID-19_Workshops_and_Events/CE_Workshop_Adjusting_Yogic_Practices_for_Persons_with_Traumatic_Brain_Injury_Part_3#new_tab
CATEGORIES:Archived,CE Workshop,Yoga Teaching Skills
ATTACH;FMTTYPE=image/jpeg:https://yourya.org/wp-content/uploads/2020/12/358B18EC-E863-49A3-87E9-AFF5357BF924.jpeg
END:VEVENT
END:VCALENDAR