BEGIN:VCALENDAR
VERSION:2.0
PRODID:-//Your Yoga Alliance - ECPv5.14.1//NONSGML v1.0//EN
CALSCALE:GREGORIAN
METHOD:PUBLISH
X-WR-CALNAME:Your Yoga Alliance
X-ORIGINAL-URL:https://yourya.org
X-WR-CALDESC:Events for Your Yoga Alliance
REFRESH-INTERVAL;VALUE=DURATION:PT1H
X-Robots-Tag:noindex
X-PUBLISHED-TTL:PT1H
BEGIN:VTIMEZONE
TZID:America/New_York
BEGIN:DAYLIGHT
TZOFFSETFROM:-0500
TZOFFSETTO:-0400
TZNAME:EDT
DTSTART:20200308T070000
END:DAYLIGHT
BEGIN:STANDARD
TZOFFSETFROM:-0400
TZOFFSETTO:-0500
TZNAME:EST
DTSTART:20201101T060000
END:STANDARD
BEGIN:DAYLIGHT
TZOFFSETFROM:-0500
TZOFFSETTO:-0400
TZNAME:EDT
DTSTART:20210314T070000
END:DAYLIGHT
BEGIN:STANDARD
TZOFFSETFROM:-0400
TZOFFSETTO:-0500
TZNAME:EST
DTSTART:20211107T060000
END:STANDARD
END:VTIMEZONE
BEGIN:VEVENT
DTSTART;TZID=America/New_York:20211208T120000
DTEND;TZID=America/New_York:20211208T130000
DTSTAMP:20260421T160346
CREATED:20211208T214314Z
LAST-MODIFIED:20221013T134459Z
UID:14367-1638964800-1638968400@yourya.org
SUMMARY:Community Conversation | Yoga and Yoga Therapy
DESCRIPTION:Join the International Association of Yoga Therapists (IAYT) and Yoga Alliance (YA) in conversation as YA shares its updated policy and the role Scope of Practice plays in providing guiderails for yoga teachers and yoga therapists. This session will be hosted by Marsha Banks-Harold\, owner of PIES Fitness Yoga Studio\, who contributed to Yoga Alliance’s Standards Review Project and Yoga Therapy Task Force. She will be joined by IAYT Board Member Molly McManus\, YA Board Member Staffan Elgelid\, and YA Vice President of Standards Dr. Christa Kuberry.
URL:https://www.yogaalliance.org/Get_Involved/COVID-19_Resources/Archived_COVID-19_Workshops_and_Events/Community_Conversation_Yoga_and_Yoga_Therapy#new_tab
CATEGORIES:Archived,Community Conversation,Community Gatherings
ATTACH;FMTTYPE=image/jpeg:https://yourya.org/wp-content/uploads/2021/11/VID_12.02_IAYT_YA.jpg
END:VEVENT
BEGIN:VEVENT
DTSTART;TZID=America/New_York:20210416T160000
DTEND;TZID=America/New_York:20210416T170000
DTSTAMP:20260421T160346
CREATED:20210416T203340Z
LAST-MODIFIED:20221013T151607Z
UID:13330-1618588800-1618592400@yourya.org
SUMMARY:Community Conversation | "How Can the Yoga Community Heal Its Divisions in the Wake of 2020?"
DESCRIPTION:2020 was a tumultuous year for many\, including the yoga community. Deep divisions\, conspiracy theories\, misinformation\, and using the guise of yoga to justify violence has left many wondering how we got here. In this conversation\, leading yoga teachers Amy Ippoliti\, Hari-kirtana das\, and yogic activist Reggie Hubbard discuss the foundations of yoga and how we can begin to heal this divide and move forward with truth\, integrity\, and compassion.
URL:https://www.yogaalliance.org/Get_Involved/COVID-19_Resources/Archived_COVID-19_Workshops_and_Events/Community_Conversation_How_Can_the_Yoga_Community_Heal_Its_Divisions_in_the_Wake_of_2020_#new_tab
CATEGORIES:Archived,Community Conversation,Community Gatherings
ATTACH;FMTTYPE=image/jpeg:https://yourya.org/wp-content/uploads/2021/03/04.16_CC_2020_1080x608_calendar.jpg
END:VEVENT
BEGIN:VEVENT
DTSTART;TZID=America/New_York:20210115T100000
DTEND;TZID=America/New_York:20210115T110000
DTSTAMP:20260421T160346
CREATED:20210115T195824Z
LAST-MODIFIED:20221018T201121Z
UID:12308-1610704800-1610708400@yourya.org
SUMMARY:Community Sangha | Native American Healing\, Part 2
DESCRIPTION:Shawn Stevens\, known as Red Eagle\, and Maya Breuer come together for part 2 of this inspiring sangha on Native American Healing. Listen in as Red Eagle shares his experience living a Native American spiritual way of life as a traditional artist\, storyteller\, drummer\, dancer\, singer\, and flute player.
URL:https://www.yogaalliance.org/Get_Involved/COVID-19_Resources/Archived_COVID-19_Workshops_and_Events/Community_Sangha_Native_American_Healing_Part_2#new_tab
CATEGORIES:Archived,Community Conversation,Community Gatherings
ATTACH;FMTTYPE=image/jpeg:https://yourya.org/wp-content/uploads/2020/12/01.15_CS_Native2_1080x608_calendar.jpg
END:VEVENT
BEGIN:VEVENT
DTSTART;TZID=America/New_York:20201014T110000
DTEND;TZID=America/New_York:20201014T120000
DTSTAMP:20260421T160346
CREATED:20201014T150001Z
LAST-MODIFIED:20221014T165654Z
UID:10801-1602673200-1602676800@yourya.org
SUMMARY:CE Workshop | The Scientific Research on Yoga for Survivors of Breast Cancer
DESCRIPTION:Explore the most up-to-date research on yoga practices for some of the chronic issues facing many survivors of breast cancer such as stress\, anxiety\, fear\, depression\, sleep disturbance\, lymphedema\, reproductive system problems\, and muscular tissue recovery.
URL:https://www.yogaalliance.org/Get_Involved/COVID-19_Resources/Archived_COVID-19_Workshops_and_Events/CE_Workshop_The_Scientific_Research_on_Yoga_for_Survivors_of_Breast_Cancer#new_tab
CATEGORIES:Archived,CE Workshop,Community Conversation,Research Discussion,Scientific Research on Yoga
ATTACH;FMTTYPE=image/jpeg:https://yourya.org/wp-content/uploads/2020/10/10.14_CE_SR_Survivors_1080x608_calendar.jpg
END:VEVENT
BEGIN:VEVENT
DTSTART;TZID=America/New_York:20200722T140000
DTEND;TZID=America/New_York:20200722T150000
DTSTAMP:20260421T160346
CREATED:20200722T180035Z
LAST-MODIFIED:20221013T190007Z
UID:9587-1595426400-1595430000@yourya.org
SUMMARY:Community Conversation | An International Perspective
DESCRIPTION:The COVID-19 pandemic and recent social justice movements show us how connected we all are. This series aims to foster a greater connection with the international yoga community and better inform participants about areas of challenge and opportunity faced by the yoga community around the world.
URL:https://www.yogaalliance.org/Get_Involved/COVID-19_Resources/Archived_COVID-19_Workshops_and_Events/Community_Conversation_An_International_Perspective_0722
CATEGORIES:Archived,Community Conversation,Community Events,COVID-19,Diversity, Equity & Inclusion
ATTACH;FMTTYPE=image/jpeg:https://yourya.org/wp-content/uploads/2020/06/07.08_CC_International_ship_1080x608_calendar.jpg
END:VEVENT
BEGIN:VEVENT
DTSTART;TZID=America/New_York:20200708T140000
DTEND;TZID=America/New_York:20200708T150000
DTSTAMP:20260421T160346
CREATED:20200708T180054Z
LAST-MODIFIED:20221013T190939Z
UID:9570-1594216800-1594220400@yourya.org
SUMMARY:Community Conversation | An International Perspective
DESCRIPTION:The COVID-19 pandemic and recent social justice movements show us how connected we all are. This series aims to foster a greater connection with the international yoga community and better inform participants about areas of challenge and opportunity faced by the yoga community around the world.
URL:https://www.yogaalliance.org/Get_Involved/COVID-19_Resources/Archived_COVID-19_Workshops_and_Events/Community_Conversation_An_International_Perspective_070820
CATEGORIES:Archived,Community Conversation,Community Events,COVID-19,Diversity, Equity & Inclusion
ATTACH;FMTTYPE=image/jpeg:https://yourya.org/wp-content/uploads/2020/06/07.08_CC_International_ship_1080x608_calendar.jpg
END:VEVENT
BEGIN:VEVENT
DTSTART;TZID=America/New_York:20200702T100000
DTEND;TZID=America/New_York:20200702T110000
DTSTAMP:20260421T160346
CREATED:20200702T140058Z
LAST-MODIFIED:20221013T191400Z
UID:9525-1593684000-1593687600@yourya.org
SUMMARY:Community Conversation | The Intersectionality of Yoga for Black Teachers and Practitioners
DESCRIPTION:In this edition of Community Conversations\, a BIPOC panel including Yoga Alliance employees will engage in open conversation about how racism has affected their lives as yoga teachers and practitioners and their experiences navigating yoga spaces.
URL:https://www.yogaalliance.org/Get_Involved/COVID-19_Resources/Archived_COVID-19_Workshops_and_Events/Community_Conversation_The_Intersectionality_of_Yoga_for_Black_Teachers_and_Practitioners
CATEGORIES:Archived,Community Conversation,Community Events,Community Gatherings,Diversity, Equity & Inclusion
ATTACH;FMTTYPE=image/jpeg:https://yourya.org/wp-content/uploads/2020/06/07.02_CC_TheIntersectionality_ship_1080x608_cal-2.jpg
END:VEVENT
BEGIN:VEVENT
DTSTART;TZID=America/New_York:20200701T140000
DTEND;TZID=America/New_York:20200701T150000
DTSTAMP:20260421T160346
CREATED:20200701T180018Z
LAST-MODIFIED:20221013T191409Z
UID:9523-1593612000-1593615600@yourya.org
SUMMARY:Community Conversation | An International Perspective
DESCRIPTION:The COVID-19 pandemic and recent social justice movements show us how connected we all are. This series aims to foster a greater connection with the international yoga community and better inform participants about areas of challenge and opportunity faced by the yoga community around the world.
URL:https://www.yogaalliance.org/Get_Involved/COVID-19_Resources/Archived_COVID-19_Workshops_and_Events/Community_Conversation_An_International_Perspective_070120
CATEGORIES:Archived,Community Conversation,Community Events,Community Gatherings,COVID-19
ATTACH;FMTTYPE=image/jpeg:https://yourya.org/wp-content/uploads/2020/06/EV-International-1.jpg
END:VEVENT
BEGIN:VEVENT
DTSTART;TZID=America/New_York:20200626T140000
DTEND;TZID=America/New_York:20200626T150000
DTSTAMP:20260421T160346
CREATED:20200626T180044Z
LAST-MODIFIED:20221013T191507Z
UID:9501-1593180000-1593183600@yourya.org
SUMMARY:Community Conversation | Mindfulness as a Tool for Families Pursuing Social Justice
DESCRIPTION:Join us for a purposeful conversation about how adults\, including parents\, can comfort\, educate\, and support children using mindfulness practices as tools to confront the realities of racism\, oppression\, and violence.
URL:https://www.yogaalliance.org/Get_Involved/COVID-19_Resources/Archived_COVID-19_Workshops_and_Events/Community_Conversation_Mindfulness_as_a_Tool_for_Families_Pursuing_Social_Justice
CATEGORIES:Archived,Community Conversation,Community Events,Community Gatherings,Diversity, Equity & Inclusion
ATTACH;FMTTYPE=image/jpeg:https://yourya.org/wp-content/uploads/2020/06/06.26-Community-Conversation_ship_1200x676_vid.jpg
END:VEVENT
BEGIN:VEVENT
DTSTART;TZID=America/New_York:20200624T140000
DTEND;TZID=America/New_York:20200624T150000
DTSTAMP:20260421T160346
CREATED:20200624T180034Z
LAST-MODIFIED:20221013T191905Z
UID:9499-1593007200-1593010800@yourya.org
SUMMARY:Community Conversation | An International Perspective
DESCRIPTION:The COVID-19 pandemic and recent social justice movements show us how connected we all are. This series aims to foster a greater connection with the international yoga community and better inform participants about areas of challenge and opportunity faced by the yoga community around the world.
URL:https://www.yogaalliance.org/Get_Involved/COVID-19_Resources/Archived_COVID-19_Workshops_and_Events/Community_Conversation_An_International_Perspective#new_tab
CATEGORIES:Archived,Community Conversation,Community Events,COVID-19,Diversity, Equity & Inclusion
ATTACH;FMTTYPE=image/jpeg:https://yourya.org/wp-content/uploads/2020/06/EV-International-1.jpg
END:VEVENT
END:VCALENDAR