BEGIN:VCALENDAR
VERSION:2.0
PRODID:-//Your Yoga Alliance - ECPv5.14.1//NONSGML v1.0//EN
CALSCALE:GREGORIAN
METHOD:PUBLISH
X-WR-CALNAME:Your Yoga Alliance
X-ORIGINAL-URL:https://yourya.org
X-WR-CALDESC:Events for Your Yoga Alliance
REFRESH-INTERVAL;VALUE=DURATION:PT1H
X-Robots-Tag:noindex
X-PUBLISHED-TTL:PT1H
BEGIN:VTIMEZONE
TZID:America/New_York
BEGIN:DAYLIGHT
TZOFFSETFROM:-0500
TZOFFSETTO:-0400
TZNAME:EDT
DTSTART:20220313T070000
END:DAYLIGHT
BEGIN:STANDARD
TZOFFSETFROM:-0400
TZOFFSETTO:-0500
TZNAME:EST
DTSTART:20221106T060000
END:STANDARD
END:VTIMEZONE
BEGIN:VEVENT
DTSTART;TZID=America/New_York:20220619T120000
DTEND;TZID=America/New_York:20220619T130000
DTSTAMP:20260424T140440
CREATED:20220620T020026Z
LAST-MODIFIED:20221019T144547Z
UID:14873-1655640000-1655643600@yourya.org
SUMMARY:Supporting Mental\, Financial\, and Family Health: The Member Assistance Program
DESCRIPTION:The Member Assistance Program is an exciting new benefit for Yoga Alliance members. This program is included in your membership at no additional cost\, and offers a variety of valuable services including 24/7 mental health support\, work and life services\, legal and financial services\, and more. ﻿Join members of the Yoga Alliance Community Engagement team and one of our partners at Lytle AllOne Health Company to explore this program\, including:\n \n· How the Member Assistance Program works\n﻿· What services are included in the program\n﻿· How to access and navigate the portal from your Member Dashboard
URL:https://www.yogaalliance.org/Events/Watch_Past_Events/Supporting_Mental_Financial_and_Family_Health_The_Member_Assistance_Program#new_tab
CATEGORIES:Archived,For Business Owners,For New Teachers,Industry News & Research,Member Benefit Workshop
ATTACH;FMTTYPE=image/png:https://yourya.org/wp-content/uploads/2022/07/July-Digital-Events-Twitter-Post.png
END:VEVENT
END:VCALENDAR